BEGIN:VCALENDAR
PRODID:-//AddEvent Inc//AddEvent.com v1.7//EN
VERSION:2.0
BEGIN:VTIMEZONE
TZID:America/Los_Angeles
BEGIN:STANDARD
DTSTART:20261101T010000
RRULE:FREQ=YEARLY;BYDAY=1SU;BYMONTH=11
TZOFFSETFROM:-0700
TZOFFSETTO:-0800
TZNAME:PST
END:STANDARD
BEGIN:DAYLIGHT
DTSTART:20260308T030000
RRULE:FREQ=YEARLY;BYDAY=2SU;BYMONTH=3
TZOFFSETFROM:-0800
TZOFFSETTO:-0700
TZNAME:PDT
END:DAYLIGHT
END:VTIMEZONE
BEGIN:VEVENT
DESCRIPTION:Join us for California Duck Days\, Northern California's largest wetlands and wildlife nature festival! Please note that this event takes place at the Yolo Bypass Wildlife Area HEADQUARTERS\, not the YBWA itself. Directions can be found at https://yolobasin.org/contact/.\n\n------\n\nPowered by addevent.com \nShare your next event with us!\n
X-ALT-DESC;FMTTYPE=text/html:Join us for California Duck Days, Northern California's largest wetlands and wildlife nature festival! Please note that this event takes place at the Yolo Bypass Wildlife Area HEADQUARTERS, not the YBWA itself. Directions can be found at https://yolobasin.org/contact/.<br /><br />------<br /><br />Powered by addevent.com <br>Share your next event with us!<br>
UID:1776862112addeventcom
SUMMARY:California Duck Days
DTSTART;TZID=America/Los_Angeles:20260425T090000
DTEND;TZID=America/Los_Angeles:20260425T150000
DTSTAMP:20260422T124832Z
TRANSP:OPAQUE
STATUS:CONFIRMED
SEQUENCE:0
LOCATION:45211 County Road 32B\, Davis\, CA
X-MICROSOFT-CDO-BUSYSTATUS:BUSY
BEGIN:VALARM
TRIGGER:-PT60M
ACTION:DISPLAY
DESCRIPTION:Reminder
END:VALARM
END:VEVENT
END:VCALENDAR