BEGIN:VCALENDAR
PRODID:-//AddEvent Inc//AddEvent.com v1.7//EN
VERSION:2.0
BEGIN:VTIMEZONE
TZID:America/Edmonton
BEGIN:STANDARD
DTSTART:20261101T010000
RRULE:FREQ=YEARLY;BYDAY=1SU;BYMONTH=11
TZOFFSETFROM:-0600
TZOFFSETTO:-0700
TZNAME:MST
END:STANDARD
BEGIN:DAYLIGHT
DTSTART:20260308T030000
RRULE:FREQ=YEARLY;BYDAY=2SU;BYMONTH=3
TZOFFSETFROM:-0700
TZOFFSETTO:-0600
TZNAME:MDT
END:DAYLIGHT
END:VTIMEZONE
BEGIN:VEVENT
DESCRIPTION:Don’t forget this sale 👇\n\nMost people forget — save it now in 5 seconds\n\nNo sign-up required · No information needed\n\nQuick Details\n\n📅 April 25\n⏰ 10AM – 2PM\n📍 Genesis Centre\n\nMost families save hundreds at this sale.\n\nA smarter way to shop for growing kids\n\nShop thousands of gently used items at a fraction of retail prices — all in one place.\n\nNo guessing sizes. No porch pick-ups. Just real savings.\n\nCalgary’s largest in-person sale of gently used kids clothing\, toys & gear. See quality and fit before you buy — save big with no surprises.\n\nWhat you'll find\n\n• Baby clothes\n• Kids clothes (all sizes)\n• Shoes\n• Toys & games\n• Books\n• Baby gear (strollers\, bouncers\, etc.)\n• Seasonal items\n• And so much more\n\nWhy shoppers love it\n\n• See items in person before you buy\n• Organized by size and category for easier shopping\n• Shop thousands of items in one location\n• A practical way to stock up and save\n• Great selection for babies\, kids\, and teens\n• Affordable prices for growing families\n\nHow it works\n\n• Show up anytime between 10AM–2PM\n• Browse thousands of items\n• Buy what you need at great prices\n\nBest items go fast — don’t forget to save the date👇\n\nNo sign-up required — takes 5 seconds\n\n More Information  https://www.ttmac.org/Shopper-Information\n\nLocation: Genesis Centre - 7555 Falconridge Blvd NE\n\n  \n\n------\n\nPowered by addevent.com \nShare your next event with us!\n
X-ALT-DESC;FMTTYPE=text/html:<p style="font-size:26px; font-weight:bold; line-height:1.4; text-align:center; margin:0 0 8px 0;">Don’t forget this sale 👇</p><p style="font-size:18px; line-height:1.5; text-align:center; margin:0 0 8px 0;">Most people forget — save it now in 5 seconds</p><p style="font-size:16px; text-align:center; margin:0 0 24px 0;"><em>No sign-up required · No information needed</em></p><p style="font-size:22px; font-weight:bold; margin:0 0 10px 0;">Quick Details</p><p style="font-size:18px; line-height:1.6; margin:0 0 12px 0;">📅 April 25<br />⏰ 10AM – 2PM<br />📍 Genesis Centre</p><p style="font-size:18px; font-weight:bold; line-height:1.6; margin:0 0 24px 0;">Most families save hundreds at this sale.</p><p style="font-size:22px; font-weight:bold; margin:0 0 10px 0;">A smarter way to shop for growing kids</p><p style="font-size:18px; line-height:1.7; margin:0 0 16px 0;">Shop thousands of gently used items at a fraction of retail prices — all in one place.</p><p style="font-size:18px; line-height:1.7; margin:0 0 16px 0;">No guessing sizes. No porch pick-ups. Just real savings.</p><p style="font-size:18px; line-height:1.7; margin:0 0 24px 0;">Calgary’s <strong>largest in-person sale</strong> of gently used kids clothing, toys &amp; gear. See quality and fit before you buy — save big with no surprises.</p><p style="font-size:22px; font-weight:bold; margin:0 0 10px 0;">What you'll find</p><ul style="font-size:18px; line-height:1.7; margin:0 0 24px 20px; padding:0;"><li>Baby clothes</li><li>Kids clothes (all sizes)</li><li>Shoes</li><li>Toys &amp; games</li><li>Books</li><li>Baby gear (strollers, bouncers, etc.)</li><li>Seasonal items</li><li>And so much more</li></ul><p style="font-size:22px; font-weight:bold; margin:0 0 10px 0;">Why shoppers love it</p><ul style="font-size:18px; line-height:1.7; margin:0 0 24px 20px; padding:0;"><li>See items in person before you buy</li><li>Organized by size and category for easier shopping</li><li>Shop thousands of items in one location</li><li>A practical way to stock up and save</li><li>Great selection for babies, kids, and teens</li><li>Affordable prices for growing families</li></ul><p style="font-size:22px; font-weight:bold; margin:0 0 10px 0;">How it works</p><ul style="font-size:18px; line-height:1.7; margin:0 0 24px 20px; padding:0;"><li>Show up anytime between 10AM–2PM</li><li>Browse thousands of items</li><li>Buy what you need at great prices</li></ul><p style="font-size:24px; font-weight:bold; line-height:1.4; text-align:center; margin:0 0 8px 0;">Best items go fast — don’t forget to save the date👇</p><p style="font-size:16px; text-align:center; margin:0 0 24px 0;"><em>No sign-up required — takes 5 seconds</em></p><p style="font-size:18px; margin:0 0 24px 0; text-align:center;"><a href="https://www.ttmac.org/Shopper-Information" target="_blank" rel="noopener noreferrer"> <strong>More Information</strong> </a></p><p style="font-size:18px; line-height:1.6; margin:0 0 16px 0;"><strong>Location:</strong> Genesis Centre - 7555 Falconridge Blvd NE</p><span style="display: none;"> </span><span style="display: none;"> </span><br /><br />------<br /><br />Powered by addevent.com <br>Share your next event with us!<br>
UID:1776650645addeventcom
SUMMARY:Kids Clothes & Gear Sale
DTSTART;TZID=America/Edmonton:20260425T100000
DTEND;TZID=America/Edmonton:20260425T140000
DTSTAMP:20260420T020405Z
TRANSP:OPAQUE
STATUS:CONFIRMED
SEQUENCE:0
LOCATION:7555 Falconridge Blvd. NE\, Calgary\, T3J 0C9\, Canada
X-MICROSOFT-CDO-BUSYSTATUS:BUSY
BEGIN:VALARM
TRIGGER:-PT1440M
ACTION:DISPLAY
DESCRIPTION:Reminder
END:VALARM
END:VEVENT
END:VCALENDAR