BEGIN:VCALENDAR
PRODID:-//AddEvent Inc//AddEvent.com v1.7//EN
VERSION:2.0
BEGIN:VTIMEZONE
TZID:Asia/Taipei
BEGIN:STANDARD
DTSTART:19790930T230000
TZOFFSETFROM:+0800
TZOFFSETTO:+0800
TZNAME:CST
END:STANDARD
END:VTIMEZONE
BEGIN:VEVENT
DESCRIPTION:Hear from NVIDIA CEO Jensen Huang live on stage at Taipei Music Center (TMC). Arrive early to catch the GTC Live pregame show for an insightful discussion with industry leaders.\n\nWatch the livestream here https://www.nvidia.com/en-tw/gtc/taipei/keynote/.
X-ALT-DESC;FMTTYPE=text/html:Hear from NVIDIA CEO Jensen Huang live on stage at Taipei Music Center (TMC). Arrive early to catch the <em>GTC Live</em> pregame show for an insightful discussion with industry leaders.<br><br>Watch the livestream <a href="https://www.nvidia.com/en-tw/gtc/taipei/keynote/">here</a>.
UID:1776693967addeventcom
SUMMARY:NVIDIA GTC Taipei Keynote
DTSTART;TZID=Asia/Taipei:20260601T110000
DTEND;TZID=Asia/Taipei:20260601T130000
DTSTAMP:20260420T140607Z
TRANSP:OPAQUE
STATUS:CONFIRMED
SEQUENCE:0
LOCATION:Taipei Music Center
X-MICROSOFT-CDO-BUSYSTATUS:BUSY
BEGIN:VALARM
TRIGGER:-PT60M
ACTION:DISPLAY
DESCRIPTION:Reminder
END:VALARM
END:VEVENT
END:VCALENDAR