BEGIN:VCALENDAR
PRODID:-//AddEvent Inc//AddEvent.com v1.7//EN
VERSION:2.0
BEGIN:VEVENT
DESCRIPTION:Play and wishlist upcoming PC games on Steam.
X-ALT-DESC;FMTTYPE=text/html:Play and wishlist upcoming PC games on Steam.
UID:1776983008addeventcom
SUMMARY:Steam Game Festival: Summer Edition
DTSTART;VALUE=DATE:20200616
DTEND;VALUE=DATE:20200622
DTSTAMP:20260423T222328Z
TRANSP:OPAQUE
STATUS:CONFIRMED
SEQUENCE:0
LOCATION:https://www.youtube.com/watch?v=igp5BHoYZYE
X-MICROSOFT-CDO-BUSYSTATUS:BUSY
BEGIN:VALARM
TRIGGER:-PT60M
ACTION:DISPLAY
DESCRIPTION:Reminder
END:VALARM
END:VEVENT
END:VCALENDAR