BEGIN:VCALENDAR
PRODID:-//AddEvent Inc//AddEvent.com v1.7//EN
VERSION:2.0
BEGIN:VTIMEZONE
TZID:America/New_York
BEGIN:STANDARD
DTSTART:20261101T010000
RRULE:FREQ=YEARLY;BYDAY=1SU;BYMONTH=11
TZOFFSETFROM:-0400
TZOFFSETTO:-0500
TZNAME:EST
END:STANDARD
BEGIN:DAYLIGHT
DTSTART:20260308T030000
RRULE:FREQ=YEARLY;BYDAY=2SU;BYMONTH=3
TZOFFSETFROM:-0500
TZOFFSETTO:-0400
TZNAME:EDT
END:DAYLIGHT
END:VTIMEZONE
BEGIN:VEVENT
DESCRIPTION:If you're a Generator or Manifesting Generator...\ndiscover how to CREATE & SELL irresistible offers directly from your defined Sacral so you can make $10k MONTHS CONSISTENTLY!\n\n\n\n------\n\nPowered by addevent.com \nShare your next event with us!\n
X-ALT-DESC;FMTTYPE=text/html:<h3>If you're a Generator or Manifesting Generator...<br />discover how to CREATE &amp; SELL irresistible offers directly from your defined Sacral so you can make $10k MONTHS CONSISTENTLY!</h3><br /><br />------<br /><br />Powered by addevent.com <br>Share your next event with us!<br>
UID:1776656224addeventcom
SUMMARY:Sell From Your Sacral Workshop with Becca Francis
DTSTART;TZID=America/New_York:20240319T190000
DTEND;TZID=America/New_York:20240319T201500
DTSTAMP:20260420T033704Z
TRANSP:OPAQUE
STATUS:CONFIRMED
SEQUENCE:0
LOCATION:https://us06web.zoom.us/j/81629635376?pwd=so0zFbUX6jO3u6kFcFCCJxbAhlXfUj.1
X-MICROSOFT-CDO-BUSYSTATUS:BUSY
BEGIN:VALARM
TRIGGER:-PT60M
ACTION:DISPLAY
DESCRIPTION:Reminder
END:VALARM
END:VEVENT
END:VCALENDAR