BEGIN:VCALENDAR
PRODID:-//AddEvent Inc//AddEvent.com v1.7//EN
VERSION:2.0
BEGIN:VTIMEZONE
TZID:America/Denver
BEGIN:STANDARD
DTSTART:20261101T010000
RRULE:FREQ=YEARLY;BYDAY=1SU;BYMONTH=11
TZOFFSETFROM:-0600
TZOFFSETTO:-0700
TZNAME:MST
END:STANDARD
BEGIN:DAYLIGHT
DTSTART:20260308T030000
RRULE:FREQ=YEARLY;BYDAY=2SU;BYMONTH=3
TZOFFSETFROM:-0700
TZOFFSETTO:-0600
TZNAME:MDT
END:DAYLIGHT
END:VTIMEZONE
BEGIN:VEVENT
DESCRIPTION:Since the introduction of effective chemotherapy\, many changes have come about in the management of tuberculosis (TB). Most important have been the shift from sanatoria-based to general hospital and clinic-based treatment and the knowledge that active disease can reliably be prevented among those who are latently infected. With the development of effective drugs for TB\, the significant advances in bacteriology\, and increased knowledge about the treatment of latent TB infection\, the approach to tuberculosis control has become increasingly sophisticated.\n\nThe 61st Annual Denver TB Course is a hybrid event  and provides a broad overview of active and latent TB including its epidemiology\, transmission\, pathogenesis\, diagnosis\, treatment and management. The purpose of this course is to present this body of knowledge to general internists\, epidemiologists\, preventative medicine\, public health\, infectious disease and chest specialists\, physician assistants\, nurse practitioners\, registered nurses and other health care providers who will be responsible for the management and care of patients with tuberculosis.\n\n
X-ALT-DESC;FMTTYPE=text/html:Since the introduction of effective chemotherapy, many changes have come about in the management of tuberculosis (TB). Most important have been the shift from sanatoria-based to general hospital and clinic-based treatment and the knowledge that active disease can reliably be prevented among those who are latently infected. With the development of effective drugs for TB, the significant advances in bacteriology, and increased knowledge about the treatment of latent TB infection, the approach to tuberculosis control has become increasingly sophisticated.<br><br>The 61st Annual Denver TB Course is a hybrid event  and provides a broad overview of active and latent TB including its epidemiology, transmission, pathogenesis, diagnosis, treatment and management. The purpose of this course is to present this body of knowledge to general internists, epidemiologists, preventative medicine, public health, infectious disease and chest specialists, physician assistants, nurse practitioners, registered nurses and other health care providers who will be responsible for the management and care of patients with tuberculosis.<br><br>
UID:1776821726addeventcom
SUMMARY:61st Annual Denver TB Course (Hybrid Event)
DTSTART;TZID=America/Denver:20250402T140000
DTEND;TZID=America/Denver:20250404T164500
DTSTAMP:20260422T013526Z
TRANSP:OPAQUE
STATUS:CONFIRMED
SEQUENCE:0
LOCATION:Molly Blank Conference Center - \n\n1400 Jackson St.\, Denver\, 80206\, CO\, USA
X-MICROSOFT-CDO-BUSYSTATUS:BUSY
BEGIN:VALARM
TRIGGER:-PT2880M
ACTION:DISPLAY
DESCRIPTION:Reminder
END:VALARM
END:VEVENT
END:VCALENDAR