BEGIN:VCALENDAR
PRODID:-//AddEvent Inc//AddEvent.com v1.7//EN
VERSION:2.0
BEGIN:VTIMEZONE
TZID:America/New_York
BEGIN:STANDARD
DTSTART:20261101T010000
RRULE:FREQ=YEARLY;BYDAY=1SU;BYMONTH=11
TZOFFSETFROM:-0400
TZOFFSETTO:-0500
TZNAME:EST
END:STANDARD
BEGIN:DAYLIGHT
DTSTART:20260308T030000
RRULE:FREQ=YEARLY;BYDAY=2SU;BYMONTH=3
TZOFFSETFROM:-0500
TZOFFSETTO:-0400
TZNAME:EDT
END:DAYLIGHT
END:VTIMEZONE
BEGIN:VEVENT
DESCRIPTION:Speaker name: Dr. Evan Floden\nCompany name: Seqera Labs\nSpeaker Title: CEO & Co-founder\, Seqera Labs\n\nTopic title: Advancing the pace of omics research and discovery\nTopic outline\nIncreasingly\, multiple omics disciplines are being combined to study biological processes in a more comprehensive manner. Multi-omics techniques are used in everything from personalized medicine and dosing control to population-level studies to the development of new therapeutics.\nTraditionally\, techniques used for large-scale genomic analysis in research and clinical settings have been plagued with technical and procedural challenges\, including complexity\, reproducibility\, auditability\, ensuring data provenance\, and integrating with public datasets. Bioinformaticians also face a variety of practical challenges\, such as marshaling and managing necessary compute resources for analysis\, monitoring pipeline execution\, managing costs\, and maximizing the use of various sequencing platforms.\nIn this talk\, Evan Floden will discuss his organization’s efforts to address many of these large-scale analysis problems. He will discuss Nextflow\, an open-source project for multi-omics data analysis pipelines\, and introduce nf-core\, a community effort to build a high-quality set of curated analysis pipelines. Evan will provide specific examples of pipelines and how they address a wide range of omics disciplines and provide specific examples of how pharmaceutical\, biotech companies\, and public health authorities are using these open science pipelines and techniques to automate end-to-end analysis. Attendees will learn how they can advance their research and improve productivity and efficiency by leveraging reusable open science pipelines and modules.\n\n------\n\nPowered by addevent.com \nShare your next event with us!\n
X-ALT-DESC;FMTTYPE=text/html:Speaker name: Dr. Evan Floden<br />Company name: Seqera Labs<br />Speaker Title: CEO &amp; Co-founder, Seqera Labs<br><br>Topic title: Advancing the pace of omics research and discovery<br />Topic outline<br />Increasingly, multiple omics disciplines are being combined to study biological processes in a more comprehensive manner. Multi-omics techniques are used in everything from personalized medicine and dosing control to population-level studies to the development of new therapeutics.<br />Traditionally, techniques used for large-scale genomic analysis in research and clinical settings have been plagued with technical and procedural challenges, including complexity, reproducibility, auditability, ensuring data provenance, and integrating with public datasets. Bioinformaticians also face a variety of practical challenges, such as marshaling and managing necessary compute resources for analysis, monitoring pipeline execution, managing costs, and maximizing the use of various sequencing platforms.<br />In this talk, Evan Floden will discuss his organization’s efforts to address many of these large-scale analysis problems. He will discuss Nextflow, an open-source project for multi-omics data analysis pipelines, and introduce nf-core, a community effort to build a high-quality set of curated analysis pipelines. Evan will provide specific examples of pipelines and how they address a wide range of omics disciplines and provide specific examples of how pharmaceutical, biotech companies, and public health authorities are using these open science pipelines and techniques to automate end-to-end analysis. Attendees will learn how they can advance their research and improve productivity and efficiency by leveraging reusable open science pipelines and modules.<br /><br />------<br /><br />Powered by addevent.com <br>Share your next event with us!<br>
UID:1776955170addeventcom
SUMMARY:ASHG Seqera Poster: Advancing the pace of omics research and discovery
DTSTART;TZID=America/New_York:20231102T150000
DTEND;TZID=America/New_York:20231102T170000
DTSTAMP:20260423T143930Z
TRANSP:OPAQUE
STATUS:CONFIRMED
SEQUENCE:0
LOCATION:Walter E. Washington Convention Center\, Room: Exhibit & Poster Hall\, Halls A/B
X-MICROSOFT-CDO-BUSYSTATUS:BUSY
BEGIN:VALARM
TRIGGER:-PT30M
ACTION:DISPLAY
DESCRIPTION:Reminder
END:VALARM
END:VEVENT
END:VCALENDAR