BEGIN:VCALENDAR
PRODID:-//AddEvent Inc//AddEvent.com v1.7//EN
VERSION:2.0
BEGIN:VTIMEZONE
TZID:America/New_York
BEGIN:STANDARD
DTSTART:20261101T010000
RRULE:FREQ=YEARLY;BYDAY=1SU;BYMONTH=11
TZOFFSETFROM:-0400
TZOFFSETTO:-0500
TZNAME:EST
END:STANDARD
BEGIN:DAYLIGHT
DTSTART:20260308T030000
RRULE:FREQ=YEARLY;BYDAY=2SU;BYMONTH=3
TZOFFSETFROM:-0500
TZOFFSETTO:-0400
TZNAME:EDT
END:DAYLIGHT
END:VTIMEZONE
BEGIN:VEVENT
DESCRIPTION:Join Midtown Alliance\, a celebration of music\, culture\, + community\, at Arts District Plaza! \n \nCelebrate the season with your Midtown community at Midtown Alliance's FREE community event at Arts District Plaza (15th and Peachtree Street)!\n \n🎄 Enjoy free live music and mingle with friends. Be (one of the first 150 attendees to enjoy complimentary ☕ hot chocolate and delicious churros from Boqueria. And don’t miss the chance to enter Midtown Alliance's raffle 🎫 for your shot at tickets to Midtown’s greatest holiday experiences!\n \n👨‍👩‍👧‍👧 Let’s come together\, share in the holiday spirit\, and make this season merry and bright. All are welcome — bring your friends\, family\, and co-workers!\n \n🛎️ RSVP for your free raffle ticket. Must be present to win. \n \nEnjoy a raffle and giveaway from some of Midtown’s favorite experiences and restaurants! \n\n Getting There:\n\n🚶🏽‍♀️ The plaza is at the corner of 15th and Peachtree Street\, adjacent to Colony Square and across from Woodruff Arts Center. MARTA is always a great option to get to the event! The closest MARTA station is Arts Center.  \nThere is also abundant paid parking at Colony Square and paid street parking. \n 
X-ALT-DESC;FMTTYPE=text/html:<strong>Join Midtown Alliance, a celebration of music, culture, + community, at Arts District Plaza! </strong><br /> <br />Celebrate the season with your Midtown community at Midtown Alliance's FREE community event at Arts District Plaza (15th and Peachtree Street)!<br /> <br />🎄 Enjoy free live music and mingle with friends. Be (one of the first 150 attendees to enjoy complimentary ☕ hot chocolate and delicious churros from Boqueria. And don’t miss the chance to enter Midtown Alliance's raffle 🎫 for your shot at tickets to Midtown’s greatest holiday experiences!<br /> <br />👨‍👩‍👧‍👧 Let’s come together, share in the holiday spirit, and make this season merry and bright. All are welcome — bring your friends, family, and co-workers!<br /> <br />🛎️ RSVP for your free raffle ticket. Must be present to win. <br /> <br />Enjoy a raffle and giveaway from some of Midtown’s favorite experiences and restaurants! <br><br><strong> Getting There:</strong><br><br>🚶🏽‍♀️ The plaza is at the corner of 15th and Peachtree Street, adjacent to Colony Square and across from Woodruff Arts Center. MARTA is always a great option to get to the event! The closest MARTA station is Arts Center.  <br />There is also abundant paid parking at Colony Square and paid street parking. <br /> 
UID:1776653899addeventcom
SUMMARY:Midtown Jingle & Mingle
DTSTART;TZID=America/New_York:20251210T160000
DTEND;TZID=America/New_York:20251210T180000
DTSTAMP:20260420T025819Z
TRANSP:OPAQUE
STATUS:CONFIRMED
SEQUENCE:0
LOCATION:Arts District Plaza (15th and Peachtree Streets)
X-MICROSOFT-CDO-BUSYSTATUS:BUSY
BEGIN:VALARM
TRIGGER:-PT30M
ACTION:DISPLAY
DESCRIPTION:Reminder
END:VALARM
END:VEVENT
END:VCALENDAR