BEGIN:VCALENDAR
PRODID:-//AddEvent Inc//AddEvent.com v1.7//EN
VERSION:2.0
BEGIN:VTIMEZONE
TZID:America/Los_Angeles
BEGIN:STANDARD
DTSTART:20261101T010000
RRULE:FREQ=YEARLY;BYDAY=1SU;BYMONTH=11
TZOFFSETFROM:-0700
TZOFFSETTO:-0800
TZNAME:PST
END:STANDARD
BEGIN:DAYLIGHT
DTSTART:20260308T030000
RRULE:FREQ=YEARLY;BYDAY=2SU;BYMONTH=3
TZOFFSETFROM:-0800
TZOFFSETTO:-0700
TZNAME:PDT
END:DAYLIGHT
END:VTIMEZONE
BEGIN:VEVENT
DESCRIPTION:Join NVIDIA founder and CEO Jensen Huang at COMPUTEX 2023 for a special keynote address.\nMonday\, May 29\, 2023 at 11:00 a.m. Taipei Time\nSunday\, May 28\, 2023 at 8:00 p.m. Pacific Time\n\nWatch online here https://bit.ly/40Vem7z.
X-ALT-DESC;FMTTYPE=text/html:Join NVIDIA founder and CEO Jensen Huang at COMPUTEX 2023 for a special keynote address.<br />Monday, May 29, 2023 at 11:00 a.m. Taipei Time<br />Sunday, May 28, 2023 at 8:00 p.m. Pacific Time<br><br>Watch online <a href="https://bit.ly/40Vem7z">here</a>.
UID:1776768701addeventcom
SUMMARY:NVIDIA Keynote at COMPUTEX 2023
DTSTART;TZID=America/Los_Angeles:20230528T200000
DTEND;TZID=America/Los_Angeles:20230528T210000
DTSTAMP:20260421T105141Z
TRANSP:OPAQUE
STATUS:CONFIRMED
SEQUENCE:0
X-MICROSOFT-CDO-BUSYSTATUS:BUSY
BEGIN:VALARM
TRIGGER:-PT30M
ACTION:DISPLAY
DESCRIPTION:Reminder
END:VALARM
END:VEVENT
END:VCALENDAR