BEGIN:VCALENDAR
PRODID:-//AddEvent Inc//AddEvent.com v1.7//EN
VERSION:2.0
BEGIN:VTIMEZONE
TZID:Europe/Berlin
BEGIN:STANDARD
DTSTART:20261025T020000
RRULE:FREQ=YEARLY;BYDAY=-1SU;BYMONTH=10
TZOFFSETFROM:+0200
TZOFFSETTO:+0100
TZNAME:CET
END:STANDARD
BEGIN:DAYLIGHT
DTSTART:20260329T030000
RRULE:FREQ=YEARLY;BYDAY=-1SU;BYMONTH=3
TZOFFSETFROM:+0100
TZOFFSETTO:+0200
TZNAME:CEST
END:DAYLIGHT
END:VTIMEZONE
BEGIN:VEVENT
DESCRIPTION:📅 BioUpgrade Protokoll – Das Geheimnis hinter dem Leithormon des Mannes - TESTOSTERON\n\nErfahre\, wie du als Unternehmer oder Selbständiger dein Testosteron natürlich auf das Niveau eines sportlichen 20-Jährigen bringst – und damit Energie\, Fokus und männliche Kraft zurückgewinnst.\nOhne Medikamente. Ohne Zeitverlust. Ohne Umwege.\n\nLink zum Webinar-Raum: \n\nhttps://event.webinarjam.com/go/live/12/8z5n9bqfps0so https://zoom.us/j/91505233848\n💥 Du lernst:\n• Warum Testosteron der unterschätzte Schlüssel zu deiner Leistungsfähigkeit ist\n• Die 4-Schritte-Strategie für echte Transformation\n• Wie du Testo natürlich steigerst – ohne Nebenwirkungen\n\n🎁 Exklusives Geschenk für alle Live-Teilnehmer: Mein Buch & Hörbuch im Wert von 35 € – gratis!\n\n🔒 Live. Online. 100 % kostenfrei.\n\n
X-ALT-DESC;FMTTYPE=text/html:<p data-end="190" data-start="113">📅 BioUpgrade Protokoll – Das Geheimnis hinter dem Leithormon des Mannes - TESTOSTERON<br><br>Erfahre, wie du als Unternehmer oder Selbständiger dein Testosteron <u><strong>natürlich</strong></u> auf das Niveau eines sportlichen 20-Jährigen bringst – und damit Energie, Fokus und männliche Kraft zurückgewinnst.<br />Ohne Medikamente. Ohne Zeitverlust. Ohne Umwege.<br><br>Link zum Webinar-Raum: </p><a data-fr-linked="true" href="https://event.webinarjam.com/go/live/12/8z5n9bqfps0so">https://event.webinarjam.com/go/live/12/8z5n9bqfps0so</a><p data-end="190" data-start="113"><a data-fr-linked="true" href="https://zoom.us/j/91505233848"></a><br />💥 Du lernst:<br />• Warum Testosteron der unterschätzte Schlüssel zu deiner Leistungsfähigkeit ist<br />• Die 4-Schritte-Strategie für echte Transformation<br />• Wie du Testo natürlich steigerst – ohne Nebenwirkungen<br><br>🎁 Exklusives Geschenk für alle Live-Teilnehmer: Mein Buch &amp; Hörbuch im Wert von 35 € – gratis!<br><br>🔒 Live. Online. 100 % kostenfrei.</p>
UID:1776603734addeventcom
SUMMARY:BioUpgradeDay
DTSTART;TZID=Europe/Berlin:20250730T190000
DTEND;TZID=Europe/Berlin:20250730T210000
DTSTAMP:20260419T130214Z
TRANSP:OPAQUE
STATUS:CONFIRMED
SEQUENCE:0
LOCATION:Online
X-MICROSOFT-CDO-BUSYSTATUS:BUSY
END:VEVENT
END:VCALENDAR