BEGIN:VCALENDAR
PRODID:-//AddEvent Inc//AddEvent.com v1.7//EN
VERSION:2.0
BEGIN:VTIMEZONE
TZID:America/New_York
BEGIN:STANDARD
DTSTART:20261101T010000
RRULE:FREQ=YEARLY;BYDAY=1SU;BYMONTH=11
TZOFFSETFROM:-0400
TZOFFSETTO:-0500
TZNAME:EST
END:STANDARD
BEGIN:DAYLIGHT
DTSTART:20260308T030000
RRULE:FREQ=YEARLY;BYDAY=2SU;BYMONTH=3
TZOFFSETFROM:-0500
TZOFFSETTO:-0400
TZNAME:EDT
END:DAYLIGHT
END:VTIMEZONE
BEGIN:VEVENT
DESCRIPTION:Direct link: https://harvard.zoom.us/j/97974788118?pwd=VmY2NitUaTF2cFJUeXhuR1FqQzVudz09\n\nTopic: I Tatti Debriefs 3:  Echoes of the Renaissance in French Caribbean Music\n\nTime: Mar 25\, 2021 12:30 PM Eastern Time (US and Canada)\n\nMeeting ID: 979 7478 8118\n\nPassword: 880455
X-ALT-DESC;FMTTYPE=text/html:Direct link: https://harvard.zoom.us/j/97974788118?pwd=VmY2NitUaTF2cFJUeXhuR1FqQzVudz09<br><br>Topic: I Tatti Debriefs 3:  Echoes of the Renaissance in French Caribbean Music<br />Time: Mar 25, 2021 12:30 PM Eastern Time (US and Canada)<br />Meeting ID: 979 7478 8118<br />Password: 880455
UID:1777145884addeventcom
SUMMARY:I Tatti Debriefs 3: Echoes of the Renaissance in French Caribbean Music
DTSTART;TZID=America/New_York:20210325T123000
DTEND;TZID=America/New_York:20210325T140000
DTSTAMP:20260425T193804Z
TRANSP:OPAQUE
STATUS:CONFIRMED
SEQUENCE:0
LOCATION:Online Event via Zoom
X-MICROSOFT-CDO-BUSYSTATUS:BUSY
BEGIN:VALARM
TRIGGER:-PT10M
ACTION:DISPLAY
DESCRIPTION:Reminder
END:VALARM
END:VEVENT
END:VCALENDAR