BEGIN:VCALENDAR
PRODID:-//AddEvent Inc//AddEvent.com v1.7//EN
VERSION:2.0
BEGIN:VEVENT
DESCRIPTION:CEE Property Forum is the region’s most influential real estate event\, bringing together top investors\, developers\, and decision-makers from across Central and Eastern Europe. Held annually in Vienna\, this forum is the ultimate platform for industry leaders to connect\, share insights\, and shape the future of the market.\n\nABOUT THE EVENT https://www.property-forum.eu/forums/conference-property/cee-property-forum-awards-gala-2026-vienna-austria/2039
X-ALT-DESC;FMTTYPE=text/html:CEE Property Forum is the region’s most influential real estate event, bringing together top investors, developers, and decision-makers from across Central and Eastern Europe. Held annually in Vienna, this forum is the ultimate platform for industry leaders to connect, share insights, and shape the future of the market.<br><br><a href="https://www.property-forum.eu/forums/conference-property/cee-property-forum-awards-gala-2026-vienna-austria/2039" rel="noopener noreferrer" target="_blank">ABOUT THE EVENT</a>
UID:1776978038addeventcom
SUMMARY:CEE Property Forum & Awards Gala 2026
DTSTART;VALUE=DATE:20261123
DTEND;VALUE=DATE:20261125
DTSTAMP:20260423T210038Z
TRANSP:OPAQUE
STATUS:CONFIRMED
SEQUENCE:0
LOCATION:Vienna\, Austria
X-MICROSOFT-CDO-BUSYSTATUS:BUSY
BEGIN:VALARM
TRIGGER:-PT10080M
ACTION:DISPLAY
DESCRIPTION:Reminder
END:VALARM
END:VEVENT
END:VCALENDAR