BEGIN:VCALENDAR
PRODID:-//AddEvent Inc//AddEvent.com v1.7//EN
VERSION:2.0
BEGIN:VTIMEZONE
TZID:Europe/Warsaw
BEGIN:STANDARD
DTSTART:20261025T020000
RRULE:FREQ=YEARLY;BYDAY=-1SU;BYMONTH=10
TZOFFSETFROM:+0200
TZOFFSETTO:+0100
TZNAME:CET
END:STANDARD
BEGIN:DAYLIGHT
DTSTART:20260329T030000
RRULE:FREQ=YEARLY;BYDAY=-1SU;BYMONTH=3
TZOFFSETFROM:+0100
TZOFFSETTO:+0200
TZNAME:CEST
END:DAYLIGHT
END:VTIMEZONE
BEGIN:VEVENT
DESCRIPTION:Co? Festiwal Filmów Naukowych\nKiedy? 18-19 listopada 2022\nGdzie? ul. Poleczki 19\, Warszawa - w siedzibie Centrum Zaawansowanych Materiałów i Technologii CEZAMAT Politechniki Warszawskiej\nJak? Wstęp wolny! Rejestracja nie jest wymagana.\nWięcej informacji: www.cezamat.eu\n\n------\n\nPowered by addevent.com \nShare your next event with us!\n
X-ALT-DESC;FMTTYPE=text/html:Co? Festiwal Filmów Naukowych<br />Kiedy? 18-19 listopada 2022<br />Gdzie? ul. Poleczki 19, Warszawa - w siedzibie Centrum Zaawansowanych Materiałów i Technologii CEZAMAT Politechniki Warszawskiej<br />Jak? Wstęp wolny! Rejestracja nie jest wymagana.<br />Więcej informacji: www.cezamat.eu<br /><br />------<br /><br />Powered by addevent.com <br>Share your next event with us!<br>
UID:1776756196addeventcom
SUMMARY:Festiwal Filmów Naukowych w CEZAMAT
DTSTART;TZID=Europe/Warsaw:20221118T110000
DTEND;TZID=Europe/Warsaw:20221119T180000
DTSTAMP:20260421T072316Z
TRANSP:OPAQUE
STATUS:CONFIRMED
SEQUENCE:0
LOCATION:ul. Poleczki 19\, Warszawa\, 02-822\, Poland
X-MICROSOFT-CDO-BUSYSTATUS:BUSY
BEGIN:VALARM
TRIGGER:-PT1440M
ACTION:DISPLAY
DESCRIPTION:Reminder
END:VALARM
END:VEVENT
END:VCALENDAR