BEGIN:VCALENDAR
PRODID:-//AddEvent Inc//AddEvent.com v1.7//EN
VERSION:2.0
BEGIN:VTIMEZONE
TZID:Australia/Sydney
BEGIN:STANDARD
DTSTART:20260405T020000
RRULE:FREQ=YEARLY;BYDAY=1SU;BYMONTH=4
TZOFFSETFROM:+1100
TZOFFSETTO:+1000
TZNAME:AEST
END:STANDARD
BEGIN:DAYLIGHT
DTSTART:20261004T030000
RRULE:FREQ=YEARLY;BYDAY=1SU;BYMONTH=10
TZOFFSETFROM:+1000
TZOFFSETTO:+1100
TZNAME:AEDT
END:DAYLIGHT
END:VTIMEZONE
BEGIN:VEVENT
UID:1777039191addeventcom
SUMMARY:North Coast - Holiday Parks Masterclass
DTSTART;TZID=Australia/Sydney:20250821T130000
DTEND;TZID=Australia/Sydney:20250821T150000
DTSTAMP:20260424T135951Z
TRANSP:OPAQUE
STATUS:CONFIRMED
SEQUENCE:0
LOCATION:23 Surf Club Road\, Coffs Harbour\, 2450\, Australia
X-MICROSOFT-CDO-BUSYSTATUS:BUSY
BEGIN:VALARM
TRIGGER:-PT1440M
ACTION:DISPLAY
DESCRIPTION:Reminder
END:VALARM
END:VEVENT
END:VCALENDAR