BEGIN:VCALENDAR
PRODID:-//AddEvent Inc//AddEvent.com v1.7//EN
VERSION:2.0
BEGIN:VTIMEZONE
TZID:Europe/London
BEGIN:STANDARD
DTSTART:20261025T010000
RRULE:FREQ=YEARLY;BYDAY=-1SU;BYMONTH=10
TZOFFSETFROM:+0100
TZOFFSETTO:+0000
TZNAME:GMT
END:STANDARD
BEGIN:DAYLIGHT
DTSTART:20260329T020000
RRULE:FREQ=YEARLY;BYDAY=-1SU;BYMONTH=3
TZOFFSETFROM:+0000
TZOFFSETTO:+0100
TZNAME:BST
END:DAYLIGHT
END:VTIMEZONE
BEGIN:VEVENT
DESCRIPTION:CIO 360 Dinner Roundtable\n\nAI in Customer Experience: A Strategic Dialogue on Readiness\, Risk and Real Impact\n\nEvent Details:\nVenue: Sky Garden (The Walkie Talkie) – Viñoly Room\, 20 Fenchurch Street\, London\, EC3M 3A\nDate: 23 October 2025 Time: 18:00–22:00\n\nJoin industry leaders for an amazing CIO 360 Roundtable experience\, private dining at the Sky Garden located in the heart of the city\, at the top of the iconic 20 Fenchurch Street (The Walkie Talkie). \nThe topic for discussion: Strategic exploration of AI's transformative role in customer experience. \n\n
X-ALT-DESC;FMTTYPE=text/html:<h1><strong>CIO 360 Dinner Roundtable</strong></h1><h2>AI in Customer Experience: A Strategic Dialogue on Readiness, Risk and Real Impact</h2><br /><strong>Event Details:</strong><br /><strong>Venue:</strong> Sky Garden (The Walkie Talkie) – Viñoly Room, 20 Fenchurch Street, London, EC3M 3A<br /><strong>Date:</strong> 23 October 2025 Time: 18:00–22:00<br><br>Join industry leaders for an amazing CIO 360 Roundtable experience, private dining at the Sky Garden located in the heart of the city, at the top of the iconic 20 Fenchurch Street (The Walkie Talkie). <br /><strong>The topic for discussion: </strong>Strategic exploration of AI's transformative role in customer experience. <br><br>
UID:1777167915addeventcom
SUMMARY:CIO 360 Dinner Roundtable
DTSTART;TZID=Europe/London:20251007T180000
DTEND;TZID=Europe/London:20251007T220000
DTSTAMP:20260426T014515Z
TRANSP:OPAQUE
STATUS:CONFIRMED
SEQUENCE:0
LOCATION:Sky Garden (The Walkie Talkie) – Viñoly Room\, 20 Fenchurch Street\, London\, EC3M 3AF
X-MICROSOFT-CDO-BUSYSTATUS:BUSY
BEGIN:VALARM
TRIGGER:-PT1440M
ACTION:DISPLAY
DESCRIPTION:Reminder
END:VALARM
END:VEVENT
END:VCALENDAR