BEGIN:VCALENDAR
PRODID:-//AddEvent Inc//AddEvent.com v1.7//EN
VERSION:2.0
BEGIN:VTIMEZONE
TZID:America/New_York
BEGIN:STANDARD
DTSTART:20261101T010000
RRULE:FREQ=YEARLY;BYDAY=1SU;BYMONTH=11
TZOFFSETFROM:-0400
TZOFFSETTO:-0500
TZNAME:EST
END:STANDARD
BEGIN:DAYLIGHT
DTSTART:20260308T030000
RRULE:FREQ=YEARLY;BYDAY=2SU;BYMONTH=3
TZOFFSETFROM:-0500
TZOFFSETTO:-0400
TZNAME:EDT
END:DAYLIGHT
END:VTIMEZONE
BEGIN:VEVENT
DESCRIPTION:Join Phi Alpha Delta for the next Fraternity-wide virtual initiation ceremony on Wednesday\, April 19\, 2023 at 8:00 pm Eastern Time/5:00 pm Pacific Time. All P.A.D. members are invited to participate to be initiated\, welcome new members\, and recommit to Phi Alpha Delta by taking the Oath of Membership.
X-ALT-DESC;FMTTYPE=text/html:Join Phi Alpha Delta for the next Fraternity-wide virtual initiation ceremony on Wednesday, April 19, 2023 at 8:00 pm Eastern Time/5:00 pm Pacific Time. All P.A.D. members are invited to participate to be initiated, welcome new members, and recommit to Phi Alpha Delta by taking the Oath of Membership.
UID:1777152585addeventcom
SUMMARY:Phi Alpha Delta Virtual Initiation Ceremony
DTSTART;TZID=America/New_York:20230419T200000
DTEND;TZID=America/New_York:20230419T210000
DTSTAMP:20260425T212945Z
TRANSP:OPAQUE
STATUS:CONFIRMED
SEQUENCE:0
LOCATION:https://us02web.zoom.us/j/86269464891?pwd=U1R4NGlzOHRNUTQ0R1FZODUyN3FlUT09
X-MICROSOFT-CDO-BUSYSTATUS:BUSY
BEGIN:VALARM
TRIGGER:-PT30M
ACTION:DISPLAY
DESCRIPTION:Reminder
END:VALARM
END:VEVENT
END:VCALENDAR