BEGIN:VCALENDAR
PRODID:-//AddEvent Inc//AddEvent.com v1.7//EN
VERSION:2.0
BEGIN:VTIMEZONE
TZID:America/New_York
BEGIN:STANDARD
DTSTART:20261101T010000
RRULE:FREQ=YEARLY;BYDAY=1SU;BYMONTH=11
TZOFFSETFROM:-0400
TZOFFSETTO:-0500
TZNAME:EST
END:STANDARD
BEGIN:DAYLIGHT
DTSTART:20260308T030000
RRULE:FREQ=YEARLY;BYDAY=2SU;BYMONTH=3
TZOFFSETFROM:-0500
TZOFFSETTO:-0400
TZNAME:EDT
END:DAYLIGHT
END:VTIMEZONE
BEGIN:VEVENT
DESCRIPTION:Professor Christine Muschik\, IQC\n\nThis week's summer tutorial session will cover quantum error correction\, starting from an overview of early successes in the field before introducing stablizer codes. \n\nThese sessions are intended to be accessible at the late undergraduate level and open to all interested USEQIP students and IQC members.\n\n
X-ALT-DESC;FMTTYPE=text/html:<strong>Professor Christine Muschik, IQC</strong><br><br>This week's summer tutorial session will cover quantum error correction, starting from an overview of early successes in the field before introducing stablizer codes. <br><br>These sessions are intended to be accessible at the late undergraduate level and open to all interested USEQIP students and IQC members.<br /><strong><br /></strong>
UID:1776588961addeventcom
SUMMARY:Quantum Error Correction Tutorial
DTSTART;TZID=America/New_York:20240725T100000
DTEND;TZID=America/New_York:20240725T120000
DTSTAMP:20260419T085601Z
TRANSP:OPAQUE
STATUS:CONFIRMED
SEQUENCE:0
LOCATION:RAC 3003
X-MICROSOFT-CDO-BUSYSTATUS:BUSY
BEGIN:VALARM
TRIGGER:-PT30M
ACTION:DISPLAY
DESCRIPTION:Reminder
END:VALARM
END:VEVENT
END:VCALENDAR