BEGIN:VCALENDAR
PRODID:-//AddEvent Inc//AddEvent.com v1.7//EN
VERSION:2.0
BEGIN:VTIMEZONE
TZID:America/Chicago
BEGIN:STANDARD
DTSTART:20261101T010000
RRULE:FREQ=YEARLY;BYDAY=1SU;BYMONTH=11
TZOFFSETFROM:-0500
TZOFFSETTO:-0600
TZNAME:CST
END:STANDARD
BEGIN:DAYLIGHT
DTSTART:20260308T030000
RRULE:FREQ=YEARLY;BYDAY=2SU;BYMONTH=3
TZOFFSETFROM:-0600
TZOFFSETTO:-0500
TZNAME:CDT
END:DAYLIGHT
END:VTIMEZONE
BEGIN:VEVENT
DESCRIPTION:People today expect more. They expect companies and brands be open\, real and empathetic in their interactions and want them to create real connections. Brands are constantly fighting an uphill battle to earn the trust and business of today’s consumer. Our very own Agency Marketing Strategist\, Emily Stang\, will join us to talk about actionable ways to position your agency and your clients to be ready for what’s ahead. We’ll cover off on topics such as evolving your offering\, following future trends\, and ways to better listen to your clients.\n\n------\n\nPowered by addevent.com \nShare your next event with us!\n
X-ALT-DESC;FMTTYPE=text/html:People today expect more. They expect companies and brands be open, real and empathetic in their interactions and want them to create real connections. Brands are constantly fighting an uphill battle to earn the trust and business of today’s consumer. Our very own Agency Marketing Strategist, Emily Stang, will join us to talk about actionable ways to position your agency and your clients to be ready for what’s ahead. We’ll cover off on topics such as evolving your offering, following future trends, and ways to better listen to your clients.<br /><br />------<br /><br />Powered by addevent.com <br>Share your next event with us!<br>
UID:1777119334addeventcom
SUMMARY:#SproutChat: Digital Transformation - How to Prepare Your Agency
DTSTART;TZID=America/Chicago:20181017T140000
DTEND;TZID=America/Chicago:20181017T150000
DTSTAMP:20260425T121534Z
TRANSP:OPAQUE
STATUS:CONFIRMED
SEQUENCE:0
X-MICROSOFT-CDO-BUSYSTATUS:BUSY
END:VEVENT
END:VCALENDAR