BEGIN:VCALENDAR
PRODID:-//AddEvent Inc//AddEvent.com v1.7//EN
VERSION:2.0
BEGIN:VTIMEZONE
TZID:Europe/London
BEGIN:STANDARD
DTSTART:20261025T010000
RRULE:FREQ=YEARLY;BYDAY=-1SU;BYMONTH=10
TZOFFSETFROM:+0100
TZOFFSETTO:+0000
TZNAME:GMT
END:STANDARD
BEGIN:DAYLIGHT
DTSTART:20260329T020000
RRULE:FREQ=YEARLY;BYDAY=-1SU;BYMONTH=3
TZOFFSETFROM:+0000
TZOFFSETTO:+0100
TZNAME:BST
END:DAYLIGHT
END:VTIMEZONE
BEGIN:VEVENT
DESCRIPTION:In celebration of the extension to the NLOW project\, we invite you to join us for a catch up to look back at the achievements of the project so far\, and what to look forward to in the coming months. This will be a great opportunity to meet other volunteers and stakeholders\, discuss your ideas and share your feedback. We will also be joined by staff from the Cambridgeshire & Peterborough Environmental Records Centre (CPERC) https://www.cperc.org.uk/ who will be sharing some insight into what is done with survey records collected by our volunteers and their critical importance for environmental monitoring.\n\n------\n\nPowered by addevent.com \nShare your next event with us!\n
X-ALT-DESC;FMTTYPE=text/html:In celebration of the extension to the NLOW project, we invite you to join us for a catch up to look back at the achievements of the project so far, and what to look forward to in the coming months. This will be a great opportunity to meet other volunteers and stakeholders, discuss your ideas and share your feedback. We will also be joined by staff from the <a href="https://www.cperc.org.uk/" rel="noopener">Cambridgeshire &amp; Peterborough Environmental Records Centre (CPERC)</a> who will be sharing some insight into what is done with survey records collected by our volunteers and their critical importance for environmental monitoring.<br /><br />------<br /><br />Powered by addevent.com <br>Share your next event with us!<br>
UID:1776855455addeventcom
SUMMARY:New Life on the Old West Volunteer & Stakeholder meeting
DTSTART;TZID=Europe/London:20240318T183000
DTEND;TZID=Europe/London:20240318T200000
DTSTAMP:20260422T105735Z
TRANSP:OPAQUE
STATUS:CONFIRMED
SEQUENCE:0
LOCATION:Over Community & Conference Centre\, 16 The Doles\, Over\, Cambridge CB24 5NW
X-MICROSOFT-CDO-BUSYSTATUS:BUSY
BEGIN:VALARM
TRIGGER:-PT30M
ACTION:DISPLAY
DESCRIPTION:Reminder
END:VALARM
END:VEVENT
END:VCALENDAR