BEGIN:VCALENDAR
PRODID:-//AddEvent Inc//AddEvent.com v1.7//EN
VERSION:2.0
BEGIN:VTIMEZONE
TZID:Europe/Amsterdam
BEGIN:STANDARD
DTSTART:20261025T020000
RRULE:FREQ=YEARLY;BYDAY=-1SU;BYMONTH=10
TZOFFSETFROM:+0200
TZOFFSETTO:+0100
TZNAME:CET
END:STANDARD
BEGIN:DAYLIGHT
DTSTART:20260329T030000
RRULE:FREQ=YEARLY;BYDAY=-1SU;BYMONTH=3
TZOFFSETFROM:+0100
TZOFFSETTO:+0200
TZNAME:CEST
END:DAYLIGHT
END:VTIMEZONE
BEGIN:VEVENT
DESCRIPTION:Join Fivetran + Databricks for cocktails & canapés at Mr. Finch\, one of the best cocktail bars in Utrecht (only 10 minutes walk from Big Data Expo)\, on Wednesday 11 September\, 18:00 - 21:00 CEST.
X-ALT-DESC;FMTTYPE=text/html:Join Fivetran + Databricks for cocktails &amp; canapés at Mr. Finch, one of the best cocktail bars in Utrecht (only 10 minutes walk from Big Data Expo), on Wednesday 11 September, 18:00 - 21:00 CEST.
UID:1776615476addeventcom
SUMMARY:Big Data Expo Afterparty at Mr. Finch
DTSTART;TZID=Europe/Amsterdam:20240911T180000
DTEND;TZID=Europe/Amsterdam:20240911T213000
DTSTAMP:20260419T161756Z
TRANSP:OPAQUE
STATUS:CONFIRMED
SEQUENCE:0
LOCATION:Mr. Finch\, Drieharingstraat 5\, 3511 BH Utrecht\, Netherlands
X-MICROSOFT-CDO-BUSYSTATUS:BUSY
BEGIN:VALARM
TRIGGER:-PT30M
ACTION:DISPLAY
DESCRIPTION:Reminder
END:VALARM
END:VEVENT
END:VCALENDAR