BEGIN:VCALENDAR
PRODID:-//AddEvent Inc//AddEvent.com v1.7//EN
VERSION:2.0
BEGIN:VTIMEZONE
TZID:America/New_York
BEGIN:STANDARD
DTSTART:20261101T010000
RRULE:FREQ=YEARLY;BYDAY=1SU;BYMONTH=11
TZOFFSETFROM:-0400
TZOFFSETTO:-0500
TZNAME:EST
END:STANDARD
BEGIN:DAYLIGHT
DTSTART:20260308T030000
RRULE:FREQ=YEARLY;BYDAY=2SU;BYMONTH=3
TZOFFSETFROM:-0500
TZOFFSETTO:-0400
TZNAME:EDT
END:DAYLIGHT
END:VTIMEZONE
BEGIN:VEVENT
DESCRIPTION:Please use the following link to access the session up to 15 minutes prior to the event start time: https://event.on24.com/wcc/r/4998072/9D1B4B84898F66AD21ECEA612050D1FD https://event.on24.com/wcc/r/4997926/914A06BB8D05C715C7BCF611D2F52555\n\nWelcome to Arts & Crafts! Whether you missed the original session live at #B2BMX West in Scottsdale or just want to relive the magic\, this is your chance to dive back into one of the top sessions—now with a summer twist.\n\nJoin Counselor Morgan J. Ingram\, a 4X LinkedIn Top Voice\, around the strategy circle as he teaches you how expert-driven content can pack your pipeline and spark real business growth (no trust falls required).\n\nIn this session\, you’ll learn the exact playbook Morgan and his team at AMP use to help experts go from quiet pros to revenue-generating thought leaders.\n\nWhat’s in your camp kit:\n\n• A step-by-step content strategy even your cabin mates can follow\; \n• Simple tools to track what’s working (and what’s just s’mores and smoke)\; and\n• Tips to get your whole team paddling in the same direction. \n\nIt’s time to retire from cold calls and outdated outreach. Let your brand grow the natural way — through authentic influence and expert content.\n\nLace up your hiking boots\, grab your canteen (or coffee)\, and get ready to take notes. This is one summer session you’ll actually want to go back to.\n\n
X-ALT-DESC;FMTTYPE=text/html:Please use the following link to access the session up to 15 minutes prior to the event start time: <a data-fr-linked="true" href="https://event.on24.com/wcc/r/4998072/9D1B4B84898F66AD21ECEA612050D1FD">https://event.on24.com/wcc/r/4998072/9D1B4B84898F66AD21ECEA612050D1FD</a><a data-fr-linked="true" href="https://event.on24.com/wcc/r/4997926/914A06BB8D05C715C7BCF611D2F52555"></a><br><br><p style="margin-top:12.0pt;margin-right:0in;margin-bottom:12.0pt;margin-left:0in;line-height:115%;font-size:16px;"><span>Welcome to <em>Arts &amp; Crafts!</em> Whether you missed the original session live at #B2BMX West in Scottsdale or just want to relive the magic, this is your chance to dive back into one of the top sessions—now with a summer twist.</span></p><p style="margin-top:12.0pt;margin-right:0in;margin-bottom:12.0pt;margin-left:0in;line-height:115%;font-size:16px;"><span>Join <em>Counselor Morgan J. Ingram</em>, a 4X LinkedIn Top Voice, around the strategy circle as he teaches you how expert-driven content can pack your pipeline and spark real business growth (no trust falls required).</span></p><p style="margin-top:12.0pt;margin-right:0in;margin-bottom:12.0pt;margin-left:0in;line-height:115%;font-size:16px;"><span>In this session, you’ll learn the exact playbook Morgan and his team at AMP use to help experts go from quiet pros to revenue-generating thought leaders.</span></p><p style="margin-top:12.0pt;margin-right:0in;margin-bottom:12.0pt;margin-left:0in;line-height:115%;font-size:16px;"><strong><span>What’s in your camp kit:</span></strong></p><ul style="list-style-type: disc;margin-left:undefined;"><li><span>A step-by-step content strategy even your cabin mates can follow; </span></li><li><span>Simple tools to track what’s working (and what’s just s’mores and smoke); and</span></li><li><span>Tips to get your whole team paddling in the same direction. </span></li></ul><p style="margin-top:0in;margin-right:0in;margin-bottom:0in;margin-left:0in;line-height:115%;font-size:16px;"><span>It’s time to retire from cold calls and outdated outreach. Let your brand grow the natural way — through authentic influence and expert content.</span></p><p style="margin-top:12.0pt;margin-right:0in;margin-bottom:12.0pt;margin-left:0in;line-height:115%;font-size:16px;"><span>Lace up your hiking boots, grab your canteen (or coffee), and get ready to take notes. This is one summer session you’ll actually want to go back to.</span></p><br />
UID:1776945850addeventcom
SUMMARY:Influence Is the New Outbound
DTSTART;TZID=America/New_York:20250812T140000
DTEND;TZID=America/New_York:20250812T150000
DTSTAMP:20260423T120410Z
TRANSP:OPAQUE
STATUS:CONFIRMED
SEQUENCE:0
LOCATION:https://event.on24.com/wcc/r/4998072/9D1B4B84898F66AD21ECEA612050D1FD
X-MICROSOFT-CDO-BUSYSTATUS:BUSY
BEGIN:VALARM
TRIGGER:-PT15M
ACTION:DISPLAY
DESCRIPTION:Reminder
END:VALARM
END:VEVENT
END:VCALENDAR