BEGIN:VCALENDAR
PRODID:-//AddEvent Inc//AddEvent.com v1.7//EN
VERSION:2.0
BEGIN:VTIMEZONE
TZID:America/Los_Angeles
BEGIN:STANDARD
DTSTART:20261101T010000
RRULE:FREQ=YEARLY;BYDAY=1SU;BYMONTH=11
TZOFFSETFROM:-0700
TZOFFSETTO:-0800
TZNAME:PST
END:STANDARD
BEGIN:DAYLIGHT
DTSTART:20260308T030000
RRULE:FREQ=YEARLY;BYDAY=2SU;BYMONTH=3
TZOFFSETFROM:-0800
TZOFFSETTO:-0700
TZNAME:PDT
END:DAYLIGHT
END:VTIMEZONE
BEGIN:VEVENT
DESCRIPTION:Here’s what you can expect on the Healing Day Experience:\n\n• Powerful group energy clearing and unblocking session from the Spiritual Activator. This session will remove the biggest blocks to abundance that you currently have. These sessions are usually only available in our $3\,000+ live events.\n• Higher Guidance and Group Reading from Oliver’s Personal Intuitive Reader. Whenever I need guidance or direction in a matter that’s too close to home\, then I reach out to Tracy\, our intuitive reader. She pulls messages from a place of love and light and has guided us through the last several years. She’s extremely accurate and loved based\, and brings forth a tremendous amount of peace\, clarity\, and direction. You’ll be a part of a group reading with Tracy during this experience.\n• Can’t make it live? Don’t worry. We will have EVERYONE’s name on a list and whether or not you make it live in person\, you’ll still receive the energy clearing and attunement as we sent it directly to you as we connect to your name\n\nClick here for more event details: https://healingdaylive.com https://healingdaylive.com/\n\n\n\n------\n\nPowered by addevent.com \nShare your next event with us!\n
X-ALT-DESC;FMTTYPE=text/html:<div data-element_type="widget" data-id="8ae28e9" data-widget_type="heading.default"><h1>Here’s what you can expect on the Healing Day Experience:</h1></div><div data-element_type="widget" data-id="3091ad7" data-widget_type="text-editor.default"><ul><li><strong>Powerful group energy clearing and unblocking session from the Spiritual Activator.</strong> This session will remove the biggest blocks to abundance that you currently have. These sessions are usually only available in our $3,000+ live events.</li><li><strong>Higher Guidance and Group Reading from Oliver’s Personal Intuitive Reader.</strong> Whenever I need guidance or direction in a matter that’s too close to home, then I reach out to Tracy, our intuitive reader. She pulls messages from a place of love and light and has guided us through the last several years. She’s extremely accurate and loved based, and brings forth a tremendous amount of peace, clarity, and direction. You’ll be a part of a group reading with Tracy during this experience.</li><li><strong>Can’t make it live? Don’t worry.</strong> We will have EVERYONE’s name on a list and whether or not you make it live in person, you’ll still receive the energy clearing and attunement as we sent it directly to you as we connect to your name</li></ul><strong>Click here for more event details: <a href="https://healingdaylive.com/">https://healingdaylive.com</a></strong></div><br /><br />------<br /><br />Powered by addevent.com <br>Share your next event with us!<br>
UID:1776726345addeventcom
SUMMARY:Healing Day Experience
DTSTART;TZID=America/Los_Angeles:20250329T090000
DTEND;TZID=America/Los_Angeles:20250329T180000
DTSTAMP:20260420T230545Z
TRANSP:OPAQUE
STATUS:CONFIRMED
SEQUENCE:0
LOCATION:Event access link will be sent via email before the event
X-MICROSOFT-CDO-BUSYSTATUS:BUSY
BEGIN:VALARM
TRIGGER:-PT30M
ACTION:DISPLAY
DESCRIPTION:Reminder
END:VALARM
END:VEVENT
END:VCALENDAR