BEGIN:VCALENDAR
PRODID:-//AddEvent Inc//AddEvent.com v1.7//EN
VERSION:2.0
BEGIN:VTIMEZONE
TZID:America/New_York
BEGIN:STANDARD
DTSTART:20261101T010000
RRULE:FREQ=YEARLY;BYDAY=1SU;BYMONTH=11
TZOFFSETFROM:-0400
TZOFFSETTO:-0500
TZNAME:EST
END:STANDARD
BEGIN:DAYLIGHT
DTSTART:20260308T030000
RRULE:FREQ=YEARLY;BYDAY=2SU;BYMONTH=3
TZOFFSETFROM:-0500
TZOFFSETTO:-0400
TZNAME:EDT
END:DAYLIGHT
END:VTIMEZONE
BEGIN:VEVENT
DESCRIPTION:Join us for an exclusive fireside chat featuring industry leaders from Fivetran\, 66degrees\, and Google Cloud. This interactive session is designed specifically for executives like you\, facing the critical decisions surrounding AI and data integration. You’ll be able to: \n\n• Engage in a peer-to-peer exchange with fellow executives facing similar challenges and opportunities in the AI and data integration landscape.\n• Gain actionable insights directly from leading practitioners at Fivetran\, 66degrees\, and Google Cloud.\n• Develop actionable strategies to leverage AI and data integration for measurable business growth and long-term success.\n\n
X-ALT-DESC;FMTTYPE=text/html:Join us for an exclusive fireside chat featuring industry leaders from Fivetran, 66degrees, and Google Cloud. This interactive session is designed specifically for executives like you, facing the critical decisions surrounding AI and data integration. You’ll be able to: <ul><li>Engage in a peer-to-peer exchange with fellow executives facing similar challenges and opportunities in the AI and data integration landscape.</li><li>Gain actionable insights directly from leading practitioners at Fivetran, 66degrees, and Google Cloud.</li><li>Develop actionable strategies to leverage AI and data integration for measurable business growth and long-term success.</li></ul>
UID:1776615397addeventcom
SUMMARY:Executive Event: AI's role in powering strategic growth
DTSTART;TZID=America/New_York:20240724T100000
DTEND;TZID=America/New_York:20240724T120000
DTSTAMP:20260419T161637Z
TRANSP:OPAQUE
STATUS:CONFIRMED
SEQUENCE:0
LOCATION:Google NYC - Pier 57\, 29 11th Ave Pier 57\, New York\, NY 10011
X-MICROSOFT-CDO-BUSYSTATUS:BUSY
BEGIN:VALARM
TRIGGER:-PT30M
ACTION:DISPLAY
DESCRIPTION:Reminder
END:VALARM
END:VEVENT
END:VCALENDAR