BEGIN:VCALENDAR
PRODID:-//AddEvent Inc//AddEvent.com v1.7//EN
VERSION:2.0
BEGIN:VTIMEZONE
TZID:America/New_York
BEGIN:STANDARD
DTSTART:20261101T010000
RRULE:FREQ=YEARLY;BYDAY=1SU;BYMONTH=11
TZOFFSETFROM:-0400
TZOFFSETTO:-0500
TZNAME:EST
END:STANDARD
BEGIN:DAYLIGHT
DTSTART:20260308T030000
RRULE:FREQ=YEARLY;BYDAY=2SU;BYMONTH=3
TZOFFSETFROM:-0500
TZOFFSETTO:-0400
TZNAME:EDT
END:DAYLIGHT
END:VTIMEZONE
BEGIN:VEVENT
DESCRIPTION:Come out and celebrate National Poetry Month! We’ve teamed up with DC Public Library for our annual Youth Poet Laureate Library Tour featuring Montgomery County YPL\, Lily Scheckner and DC YPL Neha Kumar.\n\n------\n\nPowered by addevent.com \nShare your next event with us!\n
X-ALT-DESC;FMTTYPE=text/html:Come out and celebrate National Poetry Month! We’ve teamed up with DC Public Library for our annual Youth Poet Laureate Library Tour featuring Montgomery County YPL, Lily Scheckner and DC YPL Neha Kumar.<br /><br />------<br /><br />Powered by addevent.com <br>Share your next event with us!<br>
UID:1777086312addeventcom
SUMMARY:Youth Poet Laureate Tour: Cleveland Park Library
DTSTART;TZID=America/New_York:20250429T163000
DTEND;TZID=America/New_York:20250429T173000
DTSTAMP:20260425T030512Z
TRANSP:OPAQUE
STATUS:CONFIRMED
SEQUENCE:0
LOCATION:Cleveland Park Library 3310 Connecticut Ave NW\, Washington\, DC 20008
X-MICROSOFT-CDO-BUSYSTATUS:BUSY
BEGIN:VALARM
TRIGGER:-PT60M
ACTION:DISPLAY
DESCRIPTION:Reminder
END:VALARM
END:VEVENT
END:VCALENDAR