BEGIN:VCALENDAR
PRODID:-//AddEvent Inc//AddEvent.com v1.7//EN
VERSION:2.0
BEGIN:VTIMEZONE
TZID:America/New_York
BEGIN:STANDARD
DTSTART:20261101T010000
RRULE:FREQ=YEARLY;BYDAY=1SU;BYMONTH=11
TZOFFSETFROM:-0400
TZOFFSETTO:-0500
TZNAME:EST
END:STANDARD
BEGIN:DAYLIGHT
DTSTART:20260308T030000
RRULE:FREQ=YEARLY;BYDAY=2SU;BYMONTH=3
TZOFFSETFROM:-0500
TZOFFSETTO:-0400
TZNAME:EDT
END:DAYLIGHT
END:VTIMEZONE
BEGIN:VEVENT
DESCRIPTION:Please use the link below to access the webcast up to 15 minutes before the start time: \n\nhttps://event.on24.com/wcc/r/2300215/7B3F1DA56C35F07E42DE302895089164\n\nAs marketers look to scale their ABM programs\, it is essential to be able to justify the results of both past and existing efforts. In our new reality\, it’s even more crucial to focus on what’s working and what isn’t\, to better deliver engaging and authentic experiences that are both effective and cost-efficient. Join Dun & Bradstreet’s Nipul Chokshi to learn about the type and class of metrics that can most effectively prove ABM success. \n\nIn the webinar\, we will: \n\n• Highlight the metrics and methodology that measure ABM programs most effectively\; \n\n• Identify the potential roadblocks (and how to avoid them) for measuring account engagement\;\n\n• Present real-life examples of how companies successfully measure their ABM programs\; and\n\n• Shine a light on the ugly truth behind A/B testing.
X-ALT-DESC;FMTTYPE=text/html:Please use the link below to access the webcast up to 15 minutes before the start time: <br />https://event.on24.com/wcc/r/2300215/7B3F1DA56C35F07E42DE302895089164<br><br>As marketers look to scale their ABM programs, it is essential to be able to justify the results of both past and existing efforts. In our new reality, it’s even more crucial to focus on what’s working and what isn’t, to better deliver engaging and authentic experiences that are both effective and cost-efficient. Join Dun &amp; Bradstreet’s Nipul Chokshi to learn about the type and class of metrics that can most effectively prove ABM success. <br><br>In the webinar, we will: <br />•Highlight the metrics and methodology that measure ABM programs most effectively; <br />•Identify the potential roadblocks (and how to avoid them) for measuring account engagement;<br />•Present real-life examples of how companies successfully measure their ABM programs; and<br />•Shine a light on the ugly truth behind A/B testing.
UID:1776766309addeventcom
SUMMARY:Metrics That Matter: Applying A New Lens To Track True Impact Of ABM
DTSTART;TZID=America/New_York:20200512T140000
DTEND;TZID=America/New_York:20200512T150000
DTSTAMP:20260421T101149Z
TRANSP:OPAQUE
STATUS:CONFIRMED
SEQUENCE:0
LOCATION:https://event.on24.com/wcc/r/2300215/7B3F1DA56C35F07E42DE302895089164
X-MICROSOFT-CDO-BUSYSTATUS:BUSY
BEGIN:VALARM
TRIGGER:-PT15M
ACTION:DISPLAY
DESCRIPTION:Reminder
END:VALARM
END:VEVENT
END:VCALENDAR