BEGIN:VCALENDAR
PRODID:-//AddEvent Inc//AddEvent.com v1.7//EN
VERSION:2.0
BEGIN:VTIMEZONE
TZID:America/Los_Angeles
BEGIN:STANDARD
DTSTART:20261101T010000
RRULE:FREQ=YEARLY;BYDAY=1SU;BYMONTH=11
TZOFFSETFROM:-0700
TZOFFSETTO:-0800
TZNAME:PST
END:STANDARD
BEGIN:DAYLIGHT
DTSTART:20260308T030000
RRULE:FREQ=YEARLY;BYDAY=2SU;BYMONTH=3
TZOFFSETFROM:-0800
TZOFFSETTO:-0700
TZNAME:PDT
END:DAYLIGHT
END:VTIMEZONE
BEGIN:VEVENT
DESCRIPTION:The BEO's one-night screening of the documentary Bidean Jarraituz / Following the Path at San Francisco's Roxie Theater.\n\nLearn more and make sure you've pre-purchased tickets HERE https://www.basqueeducational.org/event/bfs-bidean-jarraituz/.\n\nClick HERE https://roxie.com/plan-your-visit/how-to-get-here/ for public transit and parking information.
X-ALT-DESC;FMTTYPE=text/html:The BEO's one-night screening of the documentary Bidean Jarraituz / Following the Path at <strong>San Francisco's Roxie Theater</strong>.<br><br>Learn more and make sure you've pre-purchased tickets <a href="https://www.basqueeducational.org/event/bfs-bidean-jarraituz/">HERE</a>.<br><br>Click <a href="https://roxie.com/plan-your-visit/how-to-get-here/">HERE</a> for public transit and parking information.
UID:1776951227addeventcom
SUMMARY:Basque Film Screening: Bidean Jarraituz / Following the Path
DTSTART;TZID=America/Los_Angeles:20251111T180000
DTEND;TZID=America/Los_Angeles:20251111T200000
DTSTAMP:20260423T133347Z
TRANSP:OPAQUE
STATUS:CONFIRMED
SEQUENCE:0
LOCATION:3125 16th St\, San Francisco\, 94103\, CA\, USA
X-MICROSOFT-CDO-BUSYSTATUS:BUSY
BEGIN:VALARM
TRIGGER:-PT1440M
ACTION:DISPLAY
DESCRIPTION:Reminder
END:VALARM
END:VEVENT
END:VCALENDAR