BEGIN:VCALENDAR
PRODID:-//AddEvent Inc//AddEvent.com v1.7//EN
VERSION:2.0
BEGIN:VTIMEZONE
TZID:America/New_York
BEGIN:STANDARD
DTSTART:20261101T010000
RRULE:FREQ=YEARLY;BYDAY=1SU;BYMONTH=11
TZOFFSETFROM:-0400
TZOFFSETTO:-0500
TZNAME:EST
END:STANDARD
BEGIN:DAYLIGHT
DTSTART:20260308T030000
RRULE:FREQ=YEARLY;BYDAY=2SU;BYMONTH=3
TZOFFSETFROM:-0500
TZOFFSETTO:-0400
TZNAME:EDT
END:DAYLIGHT
END:VTIMEZONE
BEGIN:VEVENT
DESCRIPTION:Join Zoom Meeting\nhttps://us02web.zoom.us/j/85410552820?pwd=VFBVUkNvOGlPb1FraU13UU1yd1BVdz09\n\nMeeting ID: 854 1055 2820\nPasscode: 394571
X-ALT-DESC;FMTTYPE=text/html:Join Zoom Meeting<br />https://us02web.zoom.us/j/85410552820?pwd=VFBVUkNvOGlPb1FraU13UU1yd1BVdz09<br><br>Meeting ID: 854 1055 2820<br />Passcode: 394571
UID:1777142761addeventcom
SUMMARY:PAD Health Initiative Virtual Happy Hour
DTSTART;TZID=America/New_York:20230519T190000
DTEND;TZID=America/New_York:20230519T220000
DTSTAMP:20260425T184601Z
TRANSP:OPAQUE
STATUS:CONFIRMED
SEQUENCE:0
LOCATION:https://us02web.zoom.us/j/85410552820?pwd=VFBVUkNvOGlPb1FraU13UU1yd1BVdz09
X-MICROSOFT-CDO-BUSYSTATUS:BUSY
BEGIN:VALARM
TRIGGER:-PT60M
ACTION:DISPLAY
DESCRIPTION:Reminder
END:VALARM
END:VEVENT
END:VCALENDAR