BEGIN:VCALENDAR
PRODID:-//AddEvent Inc//AddEvent.com v1.7//EN
VERSION:2.0
BEGIN:VTIMEZONE
TZID:America/Santiago
BEGIN:STANDARD
DTSTART:20260404T230000
RRULE:FREQ=YEARLY;BYDAY=1SA;BYMONTH=4
TZOFFSETFROM:-0300
TZOFFSETTO:-0400
TZNAME:-04
END:STANDARD
BEGIN:DAYLIGHT
DTSTART:20260906T010000
RRULE:FREQ=YEARLY;BYDAY=1SU;BYMONTH=9
TZOFFSETFROM:-0400
TZOFFSETTO:-0300
TZNAME:-03
END:DAYLIGHT
END:VTIMEZONE
BEGIN:VEVENT
DESCRIPTION:📚✨ Santillana\, junto al docente y experto en educación emocional\, Hernán Aldana\, ofrecerán el webinar gratuito y abierto “Gestionar las emociones de nuestros hijos en medio de la sobreestimulación tecnológica" 🧠💻\, el miércoles 29 de mayo a las 16:30 hrs. a través de la plataforma YouTube 📺.\n\nEsta actividad forma parte del acompañamiento permanente que Santillana ofrece a las comunidades educativas 👨‍👩‍👧‍👦🏫\, con el objetivo de abordar desafíos de la educación de hoy y de apoyar la labor de directivos y docentes 📘🍎.\n\nhttps://www.youtube.com/watch?v=ckYDsxKRovE\n\n------\n\nPowered by addevent.com \nShare your next event with us!\n
X-ALT-DESC;FMTTYPE=text/html:📚✨ Santillana, junto al docente y experto en educación emocional, Hernán Aldana, ofrecerán el webinar gratuito y abierto “Gestionar las emociones de nuestros hijos en medio de la sobreestimulación tecnológica" 🧠💻, el miércoles 29 de mayo a las 16:30 hrs. a través de la plataforma YouTube 📺.<br><br>Esta actividad forma parte del acompañamiento permanente que Santillana ofrece a las comunidades educativas 👨‍👩‍👧‍👦🏫, con el objetivo de abordar desafíos de la educación de hoy y de apoyar la labor de directivos y docentes 📘🍎.<br><br><a data-fr-linked="true" href="https://www.youtube.com/watch?v=ckYDsxKRovE">https://www.youtube.com/watch?v=ckYDsxKRovE</a><br /><br />------<br /><br />Powered by addevent.com <br>Share your next event with us!<br>
UID:1776693937addeventcom
SUMMARY:Webinar "Gestionar las emociones de nuestros hijos en medio de la sobreestimulación tecnológica"
DTSTART;TZID=America/Santiago:20240529T163000
DTEND;TZID=America/Santiago:20240529T173000
DTSTAMP:20260420T140537Z
TRANSP:OPAQUE
STATUS:CONFIRMED
SEQUENCE:0
LOCATION:https://www.youtube.com/watch?v=ckYDsxKRovE
X-MICROSOFT-CDO-BUSYSTATUS:BUSY
BEGIN:VALARM
TRIGGER:-PT30M
ACTION:DISPLAY
DESCRIPTION:Reminder
END:VALARM
END:VEVENT
END:VCALENDAR