BEGIN:VCALENDAR
PRODID:-//AddEvent Inc//AddEvent.com v1.7//EN
VERSION:2.0
BEGIN:VEVENT
DESCRIPTION:With the theme "Reimagining Roads for Inclusive\, Safe\, Green and Efficient Mobility"\, the Conference brings IRF members and partners together each year to share knowledge\, spark practical solutions and drive transformative change in how mobility systems are designed\, managed\, and experienced.\n\nIt provides a platform for global\, multi-stakeholder dialogues that tackle the most pressing challenges and opportunities in sustainable transport.\n\nThe Conference will explore how the insights\, commitments\, and partnerships it generates can directly advance the Decade of Action for Sustainable Transport 2026\, set to launch around the same time.\n\n\n\n------\n\nPowered by addevent.com \nShare your next event with us!\n
X-ALT-DESC;FMTTYPE=text/html:<p data-pm-slice="1 1 []">With the theme <strong><em>"Reimagining Roads for Inclusive, Safe, <b data-stringify-type="bold">Green</b> and <b data-stringify-type="bold">Efficient</b> Mobility", </em></strong>the Conference brings IRF members and partners together each year to share knowledge, spark practical solutions and drive transformative change in how mobility systems are designed, managed, and experienced.</p>It provides a platform for global, multi-stakeholder dialogues that tackle the most pressing challenges and opportunities in sustainable transport.<br><br><p data-pm-slice="0 0 []">The Conference will explore how the insights, commitments, and partnerships it generates can directly advance the Decade of Action for Sustainable Transport 2026, set to launch around the same time.</p><br /><br /><br />------<br /><br />Powered by addevent.com <br>Share your next event with us!<br>
UID:1776877762addeventcom
SUMMARY:IRF 2025 Annual Conference
DTSTART;VALUE=DATE:20251202
DTEND;VALUE=DATE:20251205
DTSTAMP:20260422T170922Z
TRANSP:OPAQUE
STATUS:CONFIRMED
SEQUENCE:0
LOCATION:Online
X-MICROSOFT-CDO-BUSYSTATUS:BUSY
BEGIN:VALARM
TRIGGER:-PT30M
ACTION:DISPLAY
DESCRIPTION:Reminder
END:VALARM
END:VEVENT
END:VCALENDAR