BEGIN:VCALENDAR
PRODID:-//AddEvent Inc//AddEvent.com v1.7//EN
VERSION:2.0
BEGIN:VTIMEZONE
TZID:America/Phoenix
BEGIN:STANDARD
DTSTART:19691231T170000
TZOFFSETFROM:-0700
TZOFFSETTO:-0700
TZNAME:MST
END:STANDARD
END:VTIMEZONE
BEGIN:VEVENT
DESCRIPTION:The 5-Step Process To Create a Vivid Vision® For Your Future So You Can Align & Focus Your Team And Make 2025 Your Best Year Yet.\n\n------\n\nPowered by addevent.com \nShare your next event with us!\n
X-ALT-DESC;FMTTYPE=text/html:The 5-Step Process To Create a Vivid Vision® For Your Future So You Can Align &amp; Focus Your Team And Make 2025 Your Best Year Yet.<br /><br />------<br /><br />Powered by addevent.com <br>Share your next event with us!<br>
UID:1777088341addeventcom
SUMMARY:The Vision Class
DTSTART;TZID=America/Phoenix:20241030T130000
DTEND;TZID=America/Phoenix:20241030T140000
DTSTAMP:20260425T033901Z
TRANSP:OPAQUE
STATUS:CONFIRMED
SEQUENCE:0
X-MICROSOFT-CDO-BUSYSTATUS:BUSY
BEGIN:VALARM
TRIGGER:-PT30M
ACTION:DISPLAY
DESCRIPTION:Reminder
END:VALARM
END:VEVENT
END:VCALENDAR