BEGIN:VCALENDAR
PRODID:-//AddEvent Inc//AddEvent.com v1.7//EN
VERSION:2.0
BEGIN:VTIMEZONE
TZID:America/Los_Angeles
BEGIN:STANDARD
DTSTART:20261101T010000
RRULE:FREQ=YEARLY;BYDAY=1SU;BYMONTH=11
TZOFFSETFROM:-0700
TZOFFSETTO:-0800
TZNAME:PST
END:STANDARD
BEGIN:DAYLIGHT
DTSTART:20260308T030000
RRULE:FREQ=YEARLY;BYDAY=2SU;BYMONTH=3
TZOFFSETFROM:-0800
TZOFFSETTO:-0700
TZNAME:PDT
END:DAYLIGHT
END:VTIMEZONE
BEGIN:VEVENT
DESCRIPTION:Join classical pianist Josu Okiñena and txistulari Garikoitz Mendizabal for a magical evening of classical music composed and/or arranged by Basque musicians. Of incredible significance is the txistu\, esteemed as one of the most ancient musical instruments known to humanity\, offers a captivating window into the depths of musical history. Its origins can be traced to the distant past\, with the earliest known txistu having been discovered in the Izturitz Cave.\n\nThis recital is sponsored by the University of Nevada\, Reno Center for Basque Studies in collaboration with the BEO.
X-ALT-DESC;FMTTYPE=text/html:Join classical pianist Josu Okiñena and txistulari Garikoitz Mendizabal for a magical evening of classical music composed and/or arranged by Basque musicians. Of incredible significance is the txistu, esteemed as one of the most ancient musical instruments known to humanity, offers a captivating window into the depths of musical history. Its origins can be traced to the distant past, with the earliest known txistu having been discovered in the Izturitz Cave.<br><br>This recital is sponsored by the University of Nevada, Reno Center for Basque Studies in collaboration with the BEO.
UID:1776964462addeventcom
SUMMARY:A Basque Soundscape
DTSTART;TZID=America/Los_Angeles:20251013T170000
DTEND;TZID=America/Los_Angeles:20251013T183000
DTSTAMP:20260423T171422Z
TRANSP:OPAQUE
STATUS:CONFIRMED
SEQUENCE:0
LOCATION:UNR's Harlan O. & Barbara R. Hall Recital Hall
X-MICROSOFT-CDO-BUSYSTATUS:BUSY
BEGIN:VALARM
TRIGGER:-PT1440M
ACTION:DISPLAY
DESCRIPTION:Reminder
END:VALARM
END:VEVENT
END:VCALENDAR