BEGIN:VCALENDAR
PRODID:-//AddEvent Inc//AddEvent.com v1.7//EN
VERSION:2.0
BEGIN:VEVENT
DESCRIPTION:Tune in for a special broadcast on Cyberpunk 2077 from CD Projekt Red.\n\nTime TBD - Check summergamefest.com for details.
X-ALT-DESC;FMTTYPE=text/html:Tune in for a special broadcast on Cyberpunk 2077 from CD Projekt Red.<br><br>Time TBD - Check summergamefest.com for details.
UID:1776982879addeventcom
SUMMARY:CYBERPUNK 2077
DTSTART;VALUE=DATE:20200625
DTEND;VALUE=DATE:20200626
DTSTAMP:20260423T222119Z
TRANSP:OPAQUE
STATUS:CONFIRMED
SEQUENCE:0
LOCATION:TBD
X-MICROSOFT-CDO-BUSYSTATUS:BUSY
BEGIN:VALARM
TRIGGER:-PT60M
ACTION:DISPLAY
DESCRIPTION:Reminder
END:VALARM
END:VEVENT
END:VCALENDAR