BEGIN:VCALENDAR
PRODID:-//AddEvent Inc//AddEvent.com v1.7//EN
VERSION:2.0
BEGIN:VTIMEZONE
TZID:America/New_York
BEGIN:STANDARD
DTSTART:20261101T010000
RRULE:FREQ=YEARLY;BYDAY=1SU;BYMONTH=11
TZOFFSETFROM:-0400
TZOFFSETTO:-0500
TZNAME:EST
END:STANDARD
BEGIN:DAYLIGHT
DTSTART:20260308T030000
RRULE:FREQ=YEARLY;BYDAY=2SU;BYMONTH=3
TZOFFSETFROM:-0500
TZOFFSETTO:-0400
TZNAME:EDT
END:DAYLIGHT
END:VTIMEZONE
BEGIN:VEVENT
DESCRIPTION:FutureGood is inviting you to a scheduled Zoom meeting.\n\nTopic: Q&As with Trista Harris: Health - Extended Lifespan\nTime: Dec 3\, 2026 02:00 PM Eastern Time (US and Canada)\nJoin Zoom Meeting\nhttps://us02web.zoom.us/j/88929268090?pwd=o0V7WVu0kA4Bv1PtnHAgntgsiafyLN.1\n\nView meeting insights with Zoom AI Companion\nhttps://us02web.zoom.us/launch/edl?muid=d9e0e6a5-219a-4601-8267-89631ea5ec9e\n\nMeeting ID: 889 2926 8090\nPasscode: fd7?Xg\n\n---\n\nOne tap mobile\n+19292056099\,\,88929268090#\,\,\,\,*951966# US (New York)\n+12532050468\,\,88929268090#\,\,\,\,*951966# US\n\nJoin instructions\nhttps://us02web.zoom.us/meetings/88929268090/invitations?signature=hwjUgKiju7vGYRyCL6dyeZZAZnboXfIh9D6EgVORIqk\n\n\n\n------\n\nPowered by addevent.com \nShare your next event with us!\n
X-ALT-DESC;FMTTYPE=text/html:FutureGood is inviting you to a scheduled Zoom meeting.<br><br>Topic: Q&amp;As with Trista Harris: Health - Extended Lifespan<br />Time: Dec 3, 2026 02:00 PM Eastern Time (US and Canada)<br />Join Zoom Meeting<br />https://us02web.zoom.us/j/88929268090?pwd=o0V7WVu0kA4Bv1PtnHAgntgsiafyLN.1<br><br>View meeting insights with Zoom AI Companion<br />https://us02web.zoom.us/launch/edl?muid=d9e0e6a5-219a-4601-8267-89631ea5ec9e<br><br>Meeting ID: 889 2926 8090<br />Passcode: fd7?Xg<br><br>---<br><br>One tap mobile<br />+19292056099,,88929268090#,,,,*951966# US (New York)<br />+12532050468,,88929268090#,,,,*951966# US<br><br>Join instructions<br />https://us02web.zoom.us/meetings/88929268090/invitations?signature=hwjUgKiju7vGYRyCL6dyeZZAZnboXfIh9D6EgVORIqk<br><br><br /><br />------<br /><br />Powered by addevent.com <br>Share your next event with us!<br>
UID:1776797895addeventcom
SUMMARY:Q&As with Trista Harris: Health - Extended Lifespan
DTSTART;TZID=America/New_York:20261203T140000
DTEND;TZID=America/New_York:20261203T150000
DTSTAMP:20260421T185815Z
TRANSP:OPAQUE
STATUS:CONFIRMED
SEQUENCE:0
LOCATION:https://us02web.zoom.us/j/88929268090?pwd=o0V7WVu0kA4Bv1PtnHAgntgsiafyLN.1
X-MICROSOFT-CDO-BUSYSTATUS:BUSY
BEGIN:VALARM
TRIGGER:-PT30M
ACTION:DISPLAY
DESCRIPTION:Reminder
END:VALARM
END:VEVENT
END:VCALENDAR