BEGIN:VCALENDAR
PRODID:-//AddEvent Inc//AddEvent.com v1.7//EN
VERSION:2.0
BEGIN:VTIMEZONE
TZID:America/Vancouver
BEGIN:STANDARD
DTSTART:20261101T010000
RRULE:FREQ=YEARLY;BYDAY=1SU;BYMONTH=11
TZOFFSETFROM:-0700
TZOFFSETTO:-0800
TZNAME:PST
END:STANDARD
BEGIN:DAYLIGHT
DTSTART:20260308T030000
RRULE:FREQ=YEARLY;BYDAY=2SU;BYMONTH=3
TZOFFSETFROM:-0800
TZOFFSETTO:-0700
TZNAME:PDT
END:DAYLIGHT
END:VTIMEZONE
BEGIN:VEVENT
DESCRIPTION:We look forward to hosting you for the Governance vs. Operations: Where Is Your Board Really Sitting? online workshop\, where we’ll explore practical ways to clarify governance roles and decision-making in sport organizations.\n\nZoom Meeting Information:\nhttps://us02web.zoom.us/j/89885569203?pwd=yyRbv6agkiIPKs7JIf9WlOSki1aUfH.1\nMeeting ID: 898 8556 9203\nPasscode: 621056\n\n------\n\nPowered by addevent.com \nShare your next event with us!\n
X-ALT-DESC;FMTTYPE=text/html:We look forward to hosting you for the <strong>Governance vs. Operations: Where Is Your Board Really Sitting?</strong> online workshop, where we’ll explore practical ways to clarify governance roles and decision-making in sport organizations.<br><br>Zoom Meeting Information:<br />https://us02web.zoom.us/j/89885569203?pwd=yyRbv6agkiIPKs7JIf9WlOSki1aUfH.1<br />Meeting ID: 898 8556 9203<br />Passcode: 621056<br /><br />------<br /><br />Powered by addevent.com <br>Share your next event with us!<br>
UID:1776849089addeventcom
SUMMARY:Online Workshop: Governance vs. Operations – Where Is Your Board Really Sitting?
DTSTART;TZID=America/Vancouver:20260409T120000
DTEND;TZID=America/Vancouver:20260409T130000
DTSTAMP:20260422T091129Z
TRANSP:OPAQUE
STATUS:CONFIRMED
SEQUENCE:0
LOCATION:https://us02web.zoom.us/j/89885569203?pwd=yyRbv6agkiIPKs7JIf9WlOSki1aUfH.1
X-MICROSOFT-CDO-BUSYSTATUS:BUSY
BEGIN:VALARM
TRIGGER:-PT30M
ACTION:DISPLAY
DESCRIPTION:Reminder
END:VALARM
END:VEVENT
END:VCALENDAR