BEGIN:VCALENDAR
PRODID:-//AddEvent Inc//AddEvent.com v1.7//EN
VERSION:2.0
BEGIN:VTIMEZONE
TZID:Europe/Paris
BEGIN:STANDARD
DTSTART:20261025T020000
RRULE:FREQ=YEARLY;BYDAY=-1SU;BYMONTH=10
TZOFFSETFROM:+0200
TZOFFSETTO:+0100
TZNAME:CET
END:STANDARD
BEGIN:DAYLIGHT
DTSTART:20260329T030000
RRULE:FREQ=YEARLY;BYDAY=-1SU;BYMONTH=3
TZOFFSETFROM:+0100
TZOFFSETTO:+0200
TZNAME:CEST
END:DAYLIGHT
END:VTIMEZONE
BEGIN:VEVENT
DESCRIPTION:Le Collège Européen des Investigations Financières et de l’Analyse financière Criminelle (CEIFAC) (UMR DRES 7354 Université de Strasbourg) organise à STRASBOURG un colloque\, le Jeudi 15 juin 2023\, de 14h à 18h30 dans l’amphithéâtre Alain BERETZ (campus de l’Esplanade\, bâtiment Nouveau Patio) un colloque sur le thème :\n\n« Les investigations financières à l’appui de la lutte contre les crimes environnementaux ».\n\n\n\n------\n\nPowered by addevent.com \nShare your next event with us!\n
X-ALT-DESC;FMTTYPE=text/html:Le Collège Européen des Investigations Financières et de l’Analyse financière Criminelle (CEIFAC) (UMR DRES 7354 Université de Strasbourg) organise à STRASBOURG un colloque, le Jeudi 15 juin 2023, de 14h à 18h30 dans l’amphithéâtre Alain BERETZ (campus de l’Esplanade, bâtiment Nouveau Patio) un colloque sur le thème :<br><br>« Les investigations financières à l’appui de la lutte contre les crimes environnementaux ».<br><br><br /><br />------<br /><br />Powered by addevent.com <br>Share your next event with us!<br>
UID:1777134802addeventcom
SUMMARY:Les Investigations financières au service de la lutte contre les crimes environnementaux
DTSTART;TZID=Europe/Paris:20230615T140000
DTEND;TZID=Europe/Paris:20230615T183000
DTSTAMP:20260425T163322Z
TRANSP:OPAQUE
STATUS:CONFIRMED
SEQUENCE:0
LOCATION:22\, Rue René Descartes\, Strasbourg\, 67000\, France
X-MICROSOFT-CDO-BUSYSTATUS:BUSY
BEGIN:VALARM
TRIGGER:-PT1440M
ACTION:DISPLAY
DESCRIPTION:Reminder
END:VALARM
END:VEVENT
END:VCALENDAR