BEGIN:VCALENDAR
PRODID:-//AddEvent Inc//AddEvent.com v1.7//EN
VERSION:2.0
BEGIN:VTIMEZONE
TZID:Pacific/Auckland
BEGIN:STANDARD
DTSTART:20260405T020000
RRULE:FREQ=YEARLY;BYDAY=1SU;BYMONTH=4
TZOFFSETFROM:+1300
TZOFFSETTO:+1200
TZNAME:NZST
END:STANDARD
BEGIN:DAYLIGHT
DTSTART:20260927T030000
RRULE:FREQ=YEARLY;BYDAY=-1SU;BYMONTH=9
TZOFFSETFROM:+1200
TZOFFSETTO:+1300
TZNAME:NZDT
END:DAYLIGHT
END:VTIMEZONE
BEGIN:VEVENT
DESCRIPTION:Join us at our annual Symposium to learn the outcomes of the first stage of Our Land and Water research\, and what we're planning for the second stage. \n\nFurther information (including link to purchase tickets) will be made available on our website (http://ourlandandwater.nz) and via our e-newsletter in the coming months. \n\nSign up for our newsletter here: http://eepurl.com/dNDy6c\n\n------\n\nPowered by addevent.com \nShare your next event with us!\n
X-ALT-DESC;FMTTYPE=text/html:Join us at our annual Symposium to learn the outcomes of the first stage of Our Land and Water research, and what we're planning for the second stage. <br><br>Further information (including link to purchase tickets) will be made available on our website (http://ourlandandwater.nz) and via our e-newsletter in the coming months. <br><br>Sign up for our newsletter here: http://eepurl.com/dNDy6c<br /><br />------<br /><br />Powered by addevent.com <br>Share your next event with us!<br>
UID:1776623809addeventcom
SUMMARY:Our Land and Water Symposium 2019
DTSTART;TZID=Pacific/Auckland:20190812T090000
DTEND;TZID=Pacific/Auckland:20190813T170000
DTSTAMP:20260419T183649Z
TRANSP:OPAQUE
STATUS:CONFIRMED
SEQUENCE:0
LOCATION:Museum of New Zealand Te Papa Tongarewa
X-MICROSOFT-CDO-BUSYSTATUS:BUSY
END:VEVENT
END:VCALENDAR