BEGIN:VCALENDAR
PRODID:-//AddEvent Inc//AddEvent.com v1.7//EN
VERSION:2.0
BEGIN:VTIMEZONE
TZID:Europe/Paris
BEGIN:STANDARD
DTSTART:20261025T020000
RRULE:FREQ=YEARLY;BYDAY=-1SU;BYMONTH=10
TZOFFSETFROM:+0200
TZOFFSETTO:+0100
TZNAME:CET
END:STANDARD
BEGIN:DAYLIGHT
DTSTART:20260329T030000
RRULE:FREQ=YEARLY;BYDAY=-1SU;BYMONTH=3
TZOFFSETFROM:+0100
TZOFFSETTO:+0200
TZNAME:CEST
END:DAYLIGHT
END:VTIMEZONE
BEGIN:VEVENT
DESCRIPTION:Topic: Diverse perspectives and a holistic approach to decarbonising the transport sector.\n\nEvent: This event will include brief presentations followed by a panel discussion\, and will also include small group discussions. Come prepared to network and have engaging dialogues!\n\nConfirmed Speakers & Panellists: \n\n- Sheila Watson\, Deputy Director\, FIA Foundation\n\n- Petar Georgiev\, E-mobility Lead\, Eurelectric\n\n- Amit Bhatt\, Executive Director of Integrated Urban Transport\, WRI India\n\n- Mark Major\, Senior Adviser\, SLOCAT\n\nHow to connect:\n\nOn 11 February\, use this link to connect: www.ren21.net/2021-feb-rendez-vous. NOTE: Until then\, this link will send you to the REN21 website. \n\nFor additional details about the event and the online event platform\, please visit https://www.ren21.net/2021-rendez-vous-decarbonising-transport/\n\nWhat is a RENdez-vous?\n\nREN21 hosts these events to inspire and offer opportunities to learn and share across sectors. While each event is unique\, one thing remains consistent: at every RENdez-vous there will be time to meet and network with people from the greater renewables community\, inclusive of many different sectors.\n\nQuestions:\n\nContact community@ren21.net with any questions. We'd be happy to be in contact with you.
X-ALT-DESC;FMTTYPE=text/html:Topic: Diverse perspectives and a holistic approach to decarbonising the transport sector.<br><br>Event: This event will include brief presentations followed by a panel discussion, and will also include small group discussions. Come prepared to network and have engaging dialogues!<br><br>Confirmed Speakers &amp; Panellists: <br /> - Sheila Watson, Deputy Director, FIA Foundation<br /> - Petar Georgiev, E-mobility Lead, Eurelectric<br /> - Amit Bhatt, Executive Director of Integrated Urban Transport, WRI India<br /> - Mark Major, Senior Adviser, SLOCAT<br><br>How to connect:<br />On 11 February, use this link to connect: www.ren21.net/2021-feb-rendez-vous. NOTE: Until then, this link will send you to the REN21 website. <br><br>For additional details about the event and the online event platform, please visit https://www.ren21.net/2021-rendez-vous-decarbonising-transport/<br><br>What is a RENdez-vous?<br />REN21 hosts these events to inspire and offer opportunities to learn and share across sectors. While each event is unique, one thing remains consistent: at every RENdez-vous there will be time to meet and network with people from the greater renewables community, inclusive of many different sectors.<br><br>Questions:<br />Contact community@ren21.net with any questions. We'd be happy to be in contact with you.
UID:1776725418addeventcom
SUMMARY:RENdez-vous: Decarbonising Transport
DTSTART;TZID=Europe/Paris:20210211T140000
DTEND;TZID=Europe/Paris:20210211T153000
DTSTAMP:20260420T225018Z
TRANSP:OPAQUE
STATUS:CONFIRMED
SEQUENCE:0
X-MICROSOFT-CDO-BUSYSTATUS:BUSY
BEGIN:VALARM
TRIGGER:-PT30M
ACTION:DISPLAY
DESCRIPTION:Reminder
END:VALARM
END:VEVENT
END:VCALENDAR