BEGIN:VCALENDAR
PRODID:-//AddEvent Inc//AddEvent.com v1.7//EN
VERSION:2.0
BEGIN:VTIMEZONE
TZID:Asia/Nicosia
BEGIN:STANDARD
DTSTART:20261025T030000
RRULE:FREQ=YEARLY;BYDAY=-1SU;BYMONTH=10
TZOFFSETFROM:+0300
TZOFFSETTO:+0200
TZNAME:EET
END:STANDARD
BEGIN:DAYLIGHT
DTSTART:20260329T040000
RRULE:FREQ=YEARLY;BYDAY=-1SU;BYMONTH=3
TZOFFSETFROM:+0200
TZOFFSETTO:+0300
TZNAME:EEST
END:DAYLIGHT
END:VTIMEZONE
BEGIN:VEVENT
DESCRIPTION:Νέο κύκλο δωρεάν ανοικτών διαδικτυακών σεμιναρίων εγκαινιάζει το Γραφείο Συμβουλευτικής και Ψυχολογικής Στήριξης της Μονάδας Υποστήριξης Φοιτητών και Προγραμμάτων Σπουδών του Ανοικτού Πανεπιστημίου Κύπρου (ΑΠΚΥ) κατά το τρέχον εαρινό εξάμηνο του ακαδημαϊκού έτους 2021-2022.\n\nΤο πρώτο σεμινάριο του κύκλου τιτλοφορείται «Τεχνικές Διαβάσματος» και θα πραγματοποιηθεί την Τετάρτη 26 Ιανουαρίου 2022 με ώρα έναρξης τις 17:00. Για την παρακολούθησή του συνδεθείτε στα εργαλεία τηλεκπαίδευσης του ΑΠΚΥ\, εδώ: https://tinyurl.com/38jtp8pf \n\nΣτη διάρκεια του σεμιναρίου\, η Νάταλυ Λούμπα\, εγγεγραμμένη Συμβουλευτική Ψυχολόγος και συνεργάτιδα του Γραφείου\, η οποία είναι η εισηγήτρια όλων των τηλεσεμιναρίων του κύκλου\, θα εστιάσει σε τεχνικές αποδοτικότερου και ταχύτερου διαβάσματος και αποτελεσματικής μελέτης.\n\n------\n\nPowered by addevent.com \nShare your next event with us!\n
X-ALT-DESC;FMTTYPE=text/html:Νέο κύκλο δωρεάν ανοικτών διαδικτυακών σεμιναρίων εγκαινιάζει το Γραφείο Συμβουλευτικής και Ψυχολογικής Στήριξης της Μονάδας Υποστήριξης Φοιτητών και Προγραμμάτων Σπουδών του Ανοικτού Πανεπιστημίου Κύπρου (ΑΠΚΥ) κατά το τρέχον εαρινό εξάμηνο του ακαδημαϊκού έτους 2021-2022.<br><br>Το πρώτο σεμινάριο του κύκλου τιτλοφορείται «Τεχνικές Διαβάσματος» και θα πραγματοποιηθεί την Τετάρτη 26 Ιανουαρίου 2022 με ώρα έναρξης τις 17:00. Για την παρακολούθησή του συνδεθείτε στα εργαλεία τηλεκπαίδευσης του ΑΠΚΥ, εδώ: https://tinyurl.com/38jtp8pf <br><br>Στη διάρκεια του σεμιναρίου, η Νάταλυ Λούμπα, εγγεγραμμένη Συμβουλευτική Ψυχολόγος και συνεργάτιδα του Γραφείου, η οποία είναι η εισηγήτρια όλων των τηλεσεμιναρίων του κύκλου, θα εστιάσει σε τεχνικές αποδοτικότερου και ταχύτερου διαβάσματος και αποτελεσματικής μελέτης.<br /><br />------<br /><br />Powered by addevent.com <br>Share your next event with us!<br>
UID:1776892999addeventcom
SUMMARY:Τηλεσεμινάριο: «Τεχνικές Διαβάσματος» - Νέος κύκλος ανοικτών διαδικτυακών σεμιναρίων σε θέματα συμβουλευτικής & ψυχολογικής στήριξης
DTSTART;TZID=Asia/Nicosia:20220126T170000
DTEND;TZID=Asia/Nicosia:20220126T180000
DTSTAMP:20260422T212319Z
TRANSP:OPAQUE
STATUS:CONFIRMED
SEQUENCE:0
LOCATION:Online
X-MICROSOFT-CDO-BUSYSTATUS:BUSY
BEGIN:VALARM
TRIGGER:-PT60M
ACTION:DISPLAY
DESCRIPTION:Reminder
END:VALARM
END:VEVENT
END:VCALENDAR