BEGIN:VCALENDAR
PRODID:-//AddEvent Inc//AddEvent.com v1.7//EN
VERSION:2.0
BEGIN:VTIMEZONE
TZID:Europe/Warsaw
BEGIN:STANDARD
DTSTART:20261025T020000
RRULE:FREQ=YEARLY;BYDAY=-1SU;BYMONTH=10
TZOFFSETFROM:+0200
TZOFFSETTO:+0100
TZNAME:CET
END:STANDARD
BEGIN:DAYLIGHT
DTSTART:20260329T030000
RRULE:FREQ=YEARLY;BYDAY=-1SU;BYMONTH=3
TZOFFSETFROM:+0100
TZOFFSETTO:+0200
TZNAME:CEST
END:DAYLIGHT
END:VTIMEZONE
BEGIN:VEVENT
DESCRIPTION:Po ośmiu miesiącach ponownie zapraszamy Filipa Nowickiego z Superfund TFI! \n\nChcemy porozmawiać o tym\, jak zmieniły się warunki dla funduszy obligacji zmiennokuponowych\, czyli funduszy o teoretycznie najniższym poziomie zmienności. \n\nTakim funduszem jest Superfund Spokojna Inwestycja. Rok 2023 to fantastyczne 11\,47% na plusie\, za ostatnie 12 miesięcy jest już ponad 9. Z czego bierze się wynik w tym funduszu? Portfel na obligacjach zmiennokuponowych. WIBOR plus marża emitenta. Od obligacji skarbowych zmiennokuponowych\, czyli „nagiego” WIBOR-u po obligacje korporacyjne\, gdzie marża dodaje siły portfelowi. Jak fundusz zachowa się w kolejnych miesiącach\, jaki wpływ będą miały ewentualne obniżki stóp procentowych w Polsce? \n\nI oczywiście Wasze pytania! 
X-ALT-DESC;FMTTYPE=text/html:Po ośmiu miesiącach ponownie zapraszamy Filipa Nowickiego z Superfund TFI! <br><br>Chcemy porozmawiać o tym, jak zmieniły się warunki dla funduszy obligacji zmiennokuponowych, czyli funduszy o teoretycznie najniższym poziomie zmienności. <br><br>Takim funduszem jest Superfund Spokojna Inwestycja. Rok 2023 to fantastyczne 11,47% na plusie, za ostatnie 12 miesięcy jest już ponad 9. Z czego bierze się wynik w tym funduszu? Portfel na obligacjach zmiennokuponowych. WIBOR plus marża emitenta. Od obligacji skarbowych zmiennokuponowych, czyli „nagiego” WIBOR-u po obligacje korporacyjne, gdzie marża dodaje siły portfelowi. Jak fundusz zachowa się w kolejnych miesiącach, jaki wpływ będą miały ewentualne obniżki stóp procentowych w Polsce? <br><br>I oczywiście Wasze pytania! 
UID:1776780416addeventcom
SUMMARY:2024-10-24 Prosto w fundusz: Superfund Spokojna Inwestycja
DTSTART;TZID=Europe/Warsaw:20241024T120000
DTEND;TZID=Europe/Warsaw:20241024T130000
DTSTAMP:20260421T140656Z
TRANSP:OPAQUE
STATUS:CONFIRMED
SEQUENCE:0
LOCATION:https://www.youtube.com/watch?v=SJbsF8xUT1Y
X-MICROSOFT-CDO-BUSYSTATUS:BUSY
BEGIN:VALARM
TRIGGER:-PT30M
ACTION:DISPLAY
DESCRIPTION:Reminder
END:VALARM
END:VEVENT
END:VCALENDAR