BEGIN:VCALENDAR
PRODID:-//AddEvent Inc//AddEvent.com v1.7//EN
VERSION:2.0
BEGIN:VTIMEZONE
TZID:Europe/Zurich
BEGIN:STANDARD
DTSTART:20261025T020000
RRULE:FREQ=YEARLY;BYDAY=-1SU;BYMONTH=10
TZOFFSETFROM:+0200
TZOFFSETTO:+0100
TZNAME:CET
END:STANDARD
BEGIN:DAYLIGHT
DTSTART:20260329T030000
RRULE:FREQ=YEARLY;BYDAY=-1SU;BYMONTH=3
TZOFFSETFROM:+0100
TZOFFSETTO:+0200
TZNAME:CEST
END:DAYLIGHT
END:VTIMEZONE
BEGIN:VEVENT
DESCRIPTION:The stress and tensions of Start-Up Boards!\n\nIt’s not all bad - there are constructive tensions as well as corrosive tensions to consider! Learn about approaching it with calm using the ART model \nDon’t go crazy!\nJoin this interactive workshop to have a deeper appreciation of what is happening\, why\, and what to do about it.\n\nLocation: Startup Academy Basel\, Picassoplatz 4\, 4052 Basel\nLink to Event: ​Stress & Tensions! Navigating Boardroom Dynamics with the ART Model http://Stress%20&%20Tensions!%20%20Navigating%20Boardroom%20Dynamics%20with%20the%20ART%20Model​​​\n\nThis event is an Official Activity of the Global Entrepreneurship Week (GEW) 2025 https://gewbasel.ch/.\n\n
X-ALT-DESC;FMTTYPE=text/html:<strong>The stress and tensions of Start-Up Boards!</strong><br><br>It’s not all bad - there are constructive tensions as well as corrosive tensions to consider! Learn about approaching it with calm using the ART model <br />Don’t go crazy!<br />Join this interactive workshop to have a deeper appreciation of what is happening, why, and what to do about it.<br><br><strong>Location</strong>: Startup Academy Basel, Picassoplatz 4, 4052 Basel<br /><strong>Link to Event</strong>: ​<a href="http://Stress%20&%20Tensions!%20%20Navigating%20Boardroom%20Dynamics%20with%20the%20ART%20Model">Stress &amp; Tensions! Navigating Boardroom Dynamics with the ART Model</a>​​​<br><br><em>This event is an Official Activity of the </em><a href="https://gewbasel.ch/"><em>Global Entrepreneurship Week (GEW) 2025</em></a><em>.</em><br><br>
UID:1776810434addeventcom
SUMMARY:Stress & Tensions!  Navigating Boardroom Dynamics with the ART Model
DTSTART;TZID=Europe/Zurich:20251120T100000
DTEND;TZID=Europe/Zurich:20251120T120000
DTSTAMP:20260421T222714Z
TRANSP:OPAQUE
STATUS:CONFIRMED
SEQUENCE:0
LOCATION:Startup Academy Basel\, Picassopl. 4\, 4052 Basel
X-MICROSOFT-CDO-BUSYSTATUS:BUSY
BEGIN:VALARM
TRIGGER:-PT30M
ACTION:DISPLAY
DESCRIPTION:Reminder
END:VALARM
END:VEVENT
END:VCALENDAR