BEGIN:VCALENDAR
PRODID:-//AddEvent Inc//AddEvent.com v1.7//EN
VERSION:2.0
BEGIN:VTIMEZONE
TZID:America/Chicago
BEGIN:STANDARD
DTSTART:20261101T010000
RRULE:FREQ=YEARLY;BYDAY=1SU;BYMONTH=11
TZOFFSETFROM:-0500
TZOFFSETTO:-0600
TZNAME:CST
END:STANDARD
BEGIN:DAYLIGHT
DTSTART:20260308T030000
RRULE:FREQ=YEARLY;BYDAY=2SU;BYMONTH=3
TZOFFSETFROM:-0600
TZOFFSETTO:-0500
TZNAME:CDT
END:DAYLIGHT
END:VTIMEZONE
BEGIN:VEVENT
DESCRIPTION:What role does data play in your social strategy? Can it go beyond monthly wrap-up reports and help your social strategy? The ability to uncover market-wide insights and tell a cohesive story can be a compelling tool for audience and content development. Our own Lucy Hitz\, Corporate Marketing Lead\, will join #SproutChat to talk about the importance of data in your social storytelling efforts.\n\n------\n\nPowered by addevent.com \nShare your next event with us!\n
X-ALT-DESC;FMTTYPE=text/html:What role does data play in your social strategy? Can it go beyond monthly wrap-up reports and help your social strategy? The ability to uncover market-wide insights and tell a cohesive story can be a compelling tool for audience and content development. Our own Lucy Hitz, Corporate Marketing Lead, will join #SproutChat to talk about the importance of data in your social storytelling efforts.<br /><br />------<br /><br />Powered by addevent.com <br>Share your next event with us!<br>
UID:1777119162addeventcom
SUMMARY:#SproutChat: Data-Driven Storytelling
DTSTART;TZID=America/Chicago:20181010T140000
DTEND;TZID=America/Chicago:20181010T150000
DTSTAMP:20260425T121242Z
TRANSP:OPAQUE
STATUS:CONFIRMED
SEQUENCE:0
X-MICROSOFT-CDO-BUSYSTATUS:BUSY
END:VEVENT
END:VCALENDAR