BEGIN:VCALENDAR
PRODID:-//AddEvent Inc//AddEvent.com v1.7//EN
VERSION:2.0
BEGIN:VTIMEZONE
TZID:America/New_York
BEGIN:STANDARD
DTSTART:20261101T010000
RRULE:FREQ=YEARLY;BYDAY=1SU;BYMONTH=11
TZOFFSETFROM:-0400
TZOFFSETTO:-0500
TZNAME:EST
END:STANDARD
BEGIN:DAYLIGHT
DTSTART:20260308T030000
RRULE:FREQ=YEARLY;BYDAY=2SU;BYMONTH=3
TZOFFSETFROM:-0500
TZOFFSETTO:-0400
TZNAME:EDT
END:DAYLIGHT
END:VTIMEZONE
BEGIN:VEVENT
DESCRIPTION:Esther is an Assistant Professor at the University of Illinois. She has over 100 pieces published in major media outlets including Scientific American\, CNN\, NPR\, and The New York Times. In this alumni-led video call\, join Esther to learn the art of crafting an opinion piece. \n\nHosted by: Esther Ngumbi\, Agriculture Mentor\n\n------\n\nPowered by addevent.com \nShare your next event with us!\n
X-ALT-DESC;FMTTYPE=text/html:Esther is an Assistant Professor at the University of Illinois. She has over 100 pieces published in major media outlets including Scientific American, CNN, NPR, and The New York Times. In this alumni-led video call, join Esther to learn the art of crafting an opinion piece. <br><br>Hosted by: Esther Ngumbi, Agriculture Mentor<br /><br />------<br /><br />Powered by addevent.com <br>Share your next event with us!<br>
UID:1777060249addeventcom
SUMMARY:CGI U Alumni Led Video Chat: The Art of Crafting an Opinion Piece
DTSTART;TZID=America/New_York:20200409T120000
DTEND;TZID=America/New_York:20200409T130000
DTSTAMP:20260424T195049Z
TRANSP:OPAQUE
STATUS:CONFIRMED
SEQUENCE:0
LOCATION:https://illinois.zoom.us/j/551298644
X-MICROSOFT-CDO-BUSYSTATUS:BUSY
BEGIN:VALARM
TRIGGER:-PT30M
ACTION:DISPLAY
DESCRIPTION:Reminder
END:VALARM
END:VEVENT
END:VCALENDAR