BEGIN:VCALENDAR
PRODID:-//AddEvent Inc//AddEvent.com v1.7//EN
VERSION:2.0
BEGIN:VTIMEZONE
TZID:America/New_York
BEGIN:STANDARD
DTSTART:20261101T010000
RRULE:FREQ=YEARLY;BYDAY=1SU;BYMONTH=11
TZOFFSETFROM:-0400
TZOFFSETTO:-0500
TZNAME:EST
END:STANDARD
BEGIN:DAYLIGHT
DTSTART:20260308T030000
RRULE:FREQ=YEARLY;BYDAY=2SU;BYMONTH=3
TZOFFSETFROM:-0500
TZOFFSETTO:-0400
TZNAME:EDT
END:DAYLIGHT
END:VTIMEZONE
BEGIN:VEVENT
DESCRIPTION:The Jungle Book\, by Kamala Sankaram and Kelley Rourke\, is the fourth opera we have commissioned for the Glimmerglass Youth Chorus. There are many works that have been written for adults to perform for children\, but very few that put young people center stage. With these youth opera commissions\, Glimmerglass is creating a repertory that gives opera companies across the country a new way to engage with the young people in their communities.\n\nIn this Glimpse\, you will experience the premiere showing of one of the arias from this new opera\, followed by commentary and educational information on Indian classical music and dance.\n\n------\n\nPowered by addevent.com \nShare your next event with us!\n
X-ALT-DESC;FMTTYPE=text/html:The Jungle Book, by Kamala Sankaram and Kelley Rourke, is the fourth opera we have commissioned for the Glimmerglass Youth Chorus. There are many works that have been written for adults to perform for children, but very few that put young people center stage. With these youth opera commissions, Glimmerglass is creating a repertory that gives opera companies across the country a new way to engage with the young people in their communities.<br><br>In this Glimpse, you will experience the premiere showing of one of the arias from this new opera, followed by commentary and educational information on Indian classical music and dance.<br /><br />------<br /><br />Powered by addevent.com <br>Share your next event with us!<br>
UID:1776975537addeventcom
SUMMARY:Glimmerglass Glimpse: The Jungle Book
DTSTART;TZID=America/New_York:20200723T173000
DTEND;TZID=America/New_York:20200723T183000
DTSTAMP:20260423T201857Z
TRANSP:OPAQUE
STATUS:CONFIRMED
SEQUENCE:0
X-MICROSOFT-CDO-BUSYSTATUS:BUSY
BEGIN:VALARM
TRIGGER:-PT60M
ACTION:DISPLAY
DESCRIPTION:Reminder
END:VALARM
END:VEVENT
END:VCALENDAR