BEGIN:VCALENDAR
PRODID:-//AddEvent Inc//AddEvent.com v1.7//EN
VERSION:2.0
BEGIN:VTIMEZONE
TZID:America/Los_Angeles
BEGIN:STANDARD
DTSTART:20261101T010000
RRULE:FREQ=YEARLY;BYDAY=1SU;BYMONTH=11
TZOFFSETFROM:-0700
TZOFFSETTO:-0800
TZNAME:PST
END:STANDARD
BEGIN:DAYLIGHT
DTSTART:20260308T030000
RRULE:FREQ=YEARLY;BYDAY=2SU;BYMONTH=3
TZOFFSETFROM:-0800
TZOFFSETTO:-0700
TZNAME:PDT
END:DAYLIGHT
END:VTIMEZONE
BEGIN:VEVENT
DESCRIPTION:The details and ability to register online can be found here: https://www.basqueeducational.org/event/2026-beo-mus-tournament/
X-ALT-DESC;FMTTYPE=text/html:The details and ability to register online can be found here: https://www.basqueeducational.org/event/2026-beo-mus-tournament/
UID:1776945850addeventcom
SUMMARY:BEO Mus Tournament
DTSTART;TZID=America/Los_Angeles:20260412T073000
DTEND;TZID=America/Los_Angeles:20260412T170000
DTSTAMP:20260423T120410Z
TRANSP:OPAQUE
STATUS:CONFIRMED
SEQUENCE:0
LOCATION:599 Railroad Avenue\, South San Francisco\, 94080\, CA\, USA
X-MICROSOFT-CDO-BUSYSTATUS:BUSY
BEGIN:VALARM
TRIGGER:-PT1440M
ACTION:DISPLAY
DESCRIPTION:Reminder
END:VALARM
END:VEVENT
END:VCALENDAR