BEGIN:VCALENDAR
PRODID:-//AddEvent Inc//AddEvent.com v1.7//EN
VERSION:2.0
BEGIN:VTIMEZONE
TZID:Europe/Amsterdam
BEGIN:STANDARD
DTSTART:20261025T020000
RRULE:FREQ=YEARLY;BYDAY=-1SU;BYMONTH=10
TZOFFSETFROM:+0200
TZOFFSETTO:+0100
TZNAME:CET
END:STANDARD
BEGIN:DAYLIGHT
DTSTART:20260329T030000
RRULE:FREQ=YEARLY;BYDAY=-1SU;BYMONTH=3
TZOFFSETFROM:+0100
TZOFFSETTO:+0200
TZNAME:CEST
END:DAYLIGHT
END:VTIMEZONE
BEGIN:VEVENT
DESCRIPTION:Sedona Method Retreat\n\nin Wageningen\, The Netherlands\n\nSeptember 12 to 17\, 2018 \n\nWednesday\, September 12: \n\n7:00 p.m. to 9:30 p.m. \n\n(Registration begins at 6:00 p.m.)\n\nThursday\, September 13 to \n\nMonday\, September 17\n\n10:00 a.m. to 6:00 pm.\n\nLocation:\n\nFletcher Hotel-Restaurant De Wageningsche Berg\n\nGeneraal Foulkesweg 96\n\n6703 DS Wageningen\n\nwww.hoteldewageningscheberg.nl\n\n------\n\nPowered by addevent.com \nShare your next event with us!\n
X-ALT-DESC;FMTTYPE=text/html:Sedona Method Retreat<br />in Wageningen, The Netherlands<br><br>September 12 to 17, 2018 <br />Wednesday, September 12: <br />7:00 p.m. to 9:30 p.m. <br />(Registration begins at 6:00 p.m.)<br />Thursday, September 13 to <br />Monday, September 17<br />10:00 a.m. to 6:00 pm.<br><br>Location:<br />Fletcher Hotel-Restaurant De Wageningsche Berg<br />Generaal Foulkesweg 96<br />6703 DS Wageningen<br />www.hoteldewageningscheberg.nl<br /><br />------<br /><br />Powered by addevent.com <br>Share your next event with us!<br>
UID:1776969884addeventcom
SUMMARY:The Sedona Method Retreat - Netherlands
DTSTART;TZID=Europe/Amsterdam:20180912T190000
DTEND;TZID=Europe/Amsterdam:20180917T180000
DTSTAMP:20260423T184444Z
TRANSP:OPAQUE
STATUS:CONFIRMED
SEQUENCE:0
X-MICROSOFT-CDO-BUSYSTATUS:BUSY
END:VEVENT
END:VCALENDAR