BEGIN:VCALENDAR
PRODID:-//AddEvent Inc//AddEvent.com v1.7//EN
VERSION:2.0
BEGIN:VTIMEZONE
TZID:America/New_York
BEGIN:STANDARD
DTSTART:20261101T010000
RRULE:FREQ=YEARLY;BYDAY=1SU;BYMONTH=11
TZOFFSETFROM:-0400
TZOFFSETTO:-0500
TZNAME:EST
END:STANDARD
BEGIN:DAYLIGHT
DTSTART:20260308T030000
RRULE:FREQ=YEARLY;BYDAY=2SU;BYMONTH=3
TZOFFSETFROM:-0500
TZOFFSETTO:-0400
TZNAME:EDT
END:DAYLIGHT
END:VTIMEZONE
BEGIN:VEVENT
DESCRIPTION:Free workshop with big picture career coach\, Lisa Hoashi http://www.lisahoashi.com\n\nLearn best practices for using your most valuable asset - the people in your world - to unlock opportunities and find your next role.\n\n\n\n------\n\nPowered by addevent.com \nShare your next event with us!\n
X-ALT-DESC;FMTTYPE=text/html:<p data-pm-slice="1 1 []">Free workshop with big picture career coach, <a href="http://www.lisahoashi.com">Lisa Hoashi</a></p><p data-pm-slice="1 1 []">Learn best practices for using your most valuable asset - the people in your world - to unlock opportunities and find your next role.</p><br /><br />------<br /><br />Powered by addevent.com <br>Share your next event with us!<br>
UID:1777112390addeventcom
SUMMARY:Workshop - The Supported Job Search
DTSTART;TZID=America/New_York:20250408T120000
DTEND;TZID=America/New_York:20250408T130000
DTSTAMP:20260425T101950Z
TRANSP:OPAQUE
STATUS:CONFIRMED
SEQUENCE:0
LOCATION:https://us02web.zoom.us/j/84188904120?pwd=aoVTpcFumgZ1bkXLa2kB0iJyxwmZy9.1
X-MICROSOFT-CDO-BUSYSTATUS:BUSY
BEGIN:VALARM
TRIGGER:-PT30M
ACTION:DISPLAY
DESCRIPTION:Reminder
END:VALARM
END:VEVENT
END:VCALENDAR