BEGIN:VCALENDAR
PRODID:-//AddEvent Inc//AddEvent.com v1.7//EN
VERSION:2.0
BEGIN:VTIMEZONE
TZID:America/New_York
BEGIN:STANDARD
DTSTART:20261101T010000
RRULE:FREQ=YEARLY;BYDAY=1SU;BYMONTH=11
TZOFFSETFROM:-0400
TZOFFSETTO:-0500
TZNAME:EST
END:STANDARD
BEGIN:DAYLIGHT
DTSTART:20260308T030000
RRULE:FREQ=YEARLY;BYDAY=2SU;BYMONTH=3
TZOFFSETFROM:-0500
TZOFFSETTO:-0400
TZNAME:EDT
END:DAYLIGHT
END:VTIMEZONE
BEGIN:VEVENT
DESCRIPTION:Please join us for the IQC student seminar on Wednesday\, October 4rth\, at 12pm in QNC 1202. This week’s seminar will take place in the form of an impromptu whiteboard poster session\, where attendees will be divided into groups and will discuss each other's current work using the whiteboard. This is to encourage students to talk about their work in progress\, and practice communication skills by talking to non-experts (quantum is a big field!). As always\, pizza will be provided for attendees after the seminar.
X-ALT-DESC;FMTTYPE=text/html:Please join us for the IQC student seminar on Wednesday, October 4rth, at 12pm in QNC 1202. This week’s seminar will take place in the form of an impromptu whiteboard poster session, where attendees will be divided into groups and will discuss each other's current work using the whiteboard. This is to encourage students to talk about their work in progress, and practice communication skills by talking to non-experts (quantum is a big field!). As always, pizza will be provided for attendees after the seminar.
UID:1776802575addeventcom
SUMMARY:IQC Student Seminar Featuring Impromptu White Board Poster Session
DTSTART;TZID=America/New_York:20231004T120000
DTEND;TZID=America/New_York:20231004T130000
DTSTAMP:20260421T201615Z
TRANSP:OPAQUE
STATUS:CONFIRMED
SEQUENCE:0
LOCATION:QNC 1201
X-MICROSOFT-CDO-BUSYSTATUS:BUSY
BEGIN:VALARM
TRIGGER:-PT30M
ACTION:DISPLAY
DESCRIPTION:Reminder
END:VALARM
END:VEVENT
END:VCALENDAR