BEGIN:VCALENDAR
PRODID:-//AddEvent Inc//AddEvent.com v1.7//EN
VERSION:2.0
BEGIN:VTIMEZONE
TZID:America/Chicago
BEGIN:STANDARD
DTSTART:20261101T010000
RRULE:FREQ=YEARLY;BYDAY=1SU;BYMONTH=11
TZOFFSETFROM:-0500
TZOFFSETTO:-0600
TZNAME:CST
END:STANDARD
BEGIN:DAYLIGHT
DTSTART:20260308T030000
RRULE:FREQ=YEARLY;BYDAY=2SU;BYMONTH=3
TZOFFSETFROM:-0600
TZOFFSETTO:-0500
TZNAME:CDT
END:DAYLIGHT
END:VTIMEZONE
BEGIN:VEVENT
DESCRIPTION:Thank you for registering for "Smart Feature Flags - An Introduction and Technical Walkthrough".\n\nHarness Feature Flags finally realizes the potential of feature flagging to help teams release faster\, automate eaiser\, merge more and be interrupted less. The promise of feature flagging is well known\, but the ability to really unlock that potential has been limited - until now. \n\nDuring this workshop\, you'll learn:\n\n• How Harness makes feature flagging smart\n• How you can add your first flag in minutes \n• How to get the most value possible out of feature flagging\n\nWe look forward to seeing you there!
X-ALT-DESC;FMTTYPE=text/html:Thank you for registering for "Smart Feature Flags - An Introduction and Technical Walkthrough".<br><br>Harness Feature Flags finally realizes the potential of feature flagging to help teams release faster, automate eaiser, merge more and be interrupted less. The promise of feature flagging is well known, but the ability to really unlock that potential has been limited - until now. <br><br>During this workshop, you'll learn:<br /><ul><li dir="ltr">How Harness makes feature flagging smart</li><li dir="ltr">How you can add your first flag in minutes </li><li dir="ltr">How to get the most value possible out of feature flagging</li></ul>We look forward to seeing you there!
UID:1776709840addeventcom
SUMMARY:Smart Feature Flags - An Introduction and Technical Walkthrough
DTSTART;TZID=America/Chicago:20231116T090000
DTEND;TZID=America/Chicago:20231116T094500
DTSTAMP:20260420T183040Z
TRANSP:OPAQUE
STATUS:CONFIRMED
SEQUENCE:0
LOCATION:https://harness-io.zoom.us/w/91591263727?tk=FFr_qdEaed9EmEpSJgu7qBSy5yidcavyxi3enAOFKT0.DQMAAAAVU0PF7xZvbHh1V0NXMlRYZTVJaHFDbmdaTmhnAAAAAAAAAAAAAAAAAAAAAAAAAAAAAA&pwd=NmpLTFUvbXZmcS93dkQ0T2IyelMzdz09&uuid=WN_TY0zJp9QQxqkQAFb56H5aQ
X-MICROSOFT-CDO-BUSYSTATUS:BUSY
BEGIN:VALARM
TRIGGER:-PT30M
ACTION:DISPLAY
DESCRIPTION:Reminder
END:VALARM
END:VEVENT
END:VCALENDAR