BEGIN:VCALENDAR
PRODID:-//AddEvent Inc//AddEvent.com v1.7//EN
VERSION:2.0
BEGIN:VTIMEZONE
TZID:America/New_York
BEGIN:STANDARD
DTSTART:20261101T010000
RRULE:FREQ=YEARLY;BYDAY=1SU;BYMONTH=11
TZOFFSETFROM:-0400
TZOFFSETTO:-0500
TZNAME:EST
END:STANDARD
BEGIN:DAYLIGHT
DTSTART:20260308T030000
RRULE:FREQ=YEARLY;BYDAY=2SU;BYMONTH=3
TZOFFSETFROM:-0500
TZOFFSETTO:-0400
TZNAME:EDT
END:DAYLIGHT
END:VTIMEZONE
BEGIN:VEVENT
DESCRIPTION:Many people with Parkinson’s disease (PD) experience difficulties with their gastrointestinal tract. Constipation\, bloating\, abdominal pain\, and nausea are all common and challenging problems that can affect your quality of life. Our special guest is a gastroenterologist with expertise in both the research and the clinical care of the GI disorders of Parkinson’s disease. He will answer your questions live and offer tips to help you improve your GI issues. Register today to reserve your spot!\n\nJoin us and you will learn about:\n•        the gastrointestinal symptoms that are common in PD \n•        potential treatments for the GI symptoms of PD\n•        the gut microbiome in PD\n•        the effects of PD medications on the gut\n\nand much more!\n\n
X-ALT-DESC;FMTTYPE=text/html:Many people with Parkinson’s disease (PD) experience difficulties with their gastrointestinal tract. Constipation, bloating, abdominal pain, and nausea are all common and challenging problems that can affect your quality of life. Our special guest is a gastroenterologist with expertise in both the research and the clinical care of the GI disorders of Parkinson’s disease. He will answer your questions live and offer tips to help you improve your GI issues. Register today to reserve your spot!<br><br>Join us and you will learn about:<br />•        the gastrointestinal symptoms that are common in PD <br />•        potential treatments for the GI symptoms of PD<br />•        the gut microbiome in PD<br />•        the effects of PD medications on the gut<br><br>and much more!<br><br>
UID:1776801530addeventcom
SUMMARY:Dr. Gilbert Hosts: Parkinson's Disease and the Gut with Dr. Ali Keshavarzian
DTSTART;TZID=America/New_York:20220518T150000
DTEND;TZID=America/New_York:20220518T154500
DTSTAMP:20260421T195850Z
TRANSP:OPAQUE
STATUS:CONFIRMED
SEQUENCE:0
LOCATION:https://www.youtube.com/watch?v=hNVxnwOM04M
X-MICROSOFT-CDO-BUSYSTATUS:BUSY
BEGIN:VALARM
TRIGGER:-PT30M
ACTION:DISPLAY
DESCRIPTION:Reminder
END:VALARM
END:VEVENT
END:VCALENDAR