BEGIN:VCALENDAR
PRODID:-//AddEvent Inc//AddEvent.com v1.7//EN
VERSION:2.0
BEGIN:VTIMEZONE
TZID:America/Detroit
BEGIN:STANDARD
DTSTART:20261101T010000
RRULE:FREQ=YEARLY;BYDAY=1SU;BYMONTH=11
TZOFFSETFROM:-0400
TZOFFSETTO:-0500
TZNAME:EST
END:STANDARD
BEGIN:DAYLIGHT
DTSTART:20260308T030000
RRULE:FREQ=YEARLY;BYDAY=2SU;BYMONTH=3
TZOFFSETFROM:-0500
TZOFFSETTO:-0400
TZNAME:EDT
END:DAYLIGHT
END:VTIMEZONE
BEGIN:VEVENT
DESCRIPTION:Support MSU College of Human Medicine today by donating to scholarships for MD and Public Health students. \n\nGive now: https://humanmedicine.msu.edu/events/2024-Giving-Tuesday.html\n\n------\n\nPowered by addevent.com \nShare your next event with us!\n
X-ALT-DESC;FMTTYPE=text/html:Support MSU College of Human Medicine today by donating to scholarships for MD and Public Health students. <br><br>Give now: <a data-fr-linked="true" href="https://humanmedicine.msu.edu/events/2024-Giving-Tuesday.html">https://humanmedicine.msu.edu/events/2024-Giving-Tuesday.html</a><br /><br />------<br /><br />Powered by addevent.com <br>Share your next event with us!<br>
UID:1776602124addeventcom
SUMMARY:Giving Tuesday
DTSTART;TZID=America/Detroit:20241203T080000
DTEND;TZID=America/Detroit:20241203T235900
DTSTAMP:20260419T123524Z
TRANSP:OPAQUE
STATUS:CONFIRMED
SEQUENCE:0
X-MICROSOFT-CDO-BUSYSTATUS:BUSY
BEGIN:VALARM
TRIGGER:-PT30M
ACTION:DISPLAY
DESCRIPTION:Reminder
END:VALARM
END:VEVENT
END:VCALENDAR